Workbook

Sheet Modello LA
A1: MODELLO DI RILEVAZIONE DEI COSTI DEI LIVELLI DI ASSISTENZA DEGLI ENTI DEL SERVIZIO SANITARIO NAZIONALE
D2: STRUTTURA RILEVATA | J2: OGGETTO DELLA RILEVAZIONE
D4: REGIONE | E4: 120 | F4: CODICE ENTE | G4: 120921 | J4: CONSUNTIVO ANNO | O4: 2022
D7: Macrovoci economiche | E7: Consumi di esercizio | G7: Costi per acquisti di servizi | J7: Personale | O7: Ammortamenti | P7: Sopravvenienze Insussistenze | Q7: Altri costi | R7: Oneri finanziari, svalutazioni, minusvalenze | S7: Totale
E8: Beni sanitari | F8: Beni non sanitari | G8: prestazioni sanitarie | H8: servizi sanitari per erogazione di prestazioni | I8: servizi non sanitari | J8: Ruolo sanitario | K8: Ruolo professionale | L8: Ruolo tecnico | M8: Ruolo amministrativo | N8: Ruolo della ricerca sanitaria - NON COMPILARE -
A9: PREVENZIONE COLLETTIVA E SANITA' PUBBLICA
A10: 1A100 | D10: Sorveglianza, prevenzione e controllo delle malattie infettive e parassitarie, inclusi i programmi vaccinali | E10: =SUM(E11:E12) -> 0 | F10: =SUM(F11:F12) -> 0 | G10: =SUM(G11:G12) -> 0 | H10: =SUM(H11:H12) -> 0 | I10: =SUM(I11:I12) -> 0 | J10: =SUM(J11:J12) -> 0 | K10: =SUM(K11:K12) -> 0 | L10: =SUM(L11:L12) -> 0 | ... R10: =SUM(R11:R12) -> 0 | S10: =SUM(E10:R10) -> 0
B11: 1A110 | D11: Vaccinazioni | E11: 0 | F11: 0 | G11: 0 | H11: 0 | I11: 0 | J11: 0 | K11: 0 | L11: 0 | M11: 0 | N11: 0 | O11: 0 | P11: 0 | Q11: 0 | R11: 0 | S11: =SUM(E11:R11) -> 0
B12: 1A120 | D12: Altri interventi per la sorveglianza, prevenzione e controllo delle malattie infettive e parassitarie | E12: 0 | F12: 0 | G12: 0 | H12: 0 | I12: 0 | J12: 0 | K12: 0 | L12: 0 | M12: 0 | N12: 0 | O12: 0 | P12: 0 | Q12: 0 | R12: 0 | S12: =SUM(E12:R12) -> 0
A13: 1B100 | D13: Tutela della salute e della sicurezza degli ambienti aperti e confinati | E13: 0 | F13: 0 | G13: 0 | H13: 0 | I13: 0 | J13: 0 | K13: 0 | L13: 0 | M13: 0 | N13: 0 | O13: 0 | P13: 0 | Q13: 0 | R13: 0 | S13: =SUM(E13:R13) -> 0
A14: 1C100 | D14: Sorveglianza, prevenzione e tutela della salute e sicurezza nei luoghi di lavoro | E14: 0 | F14: 0 | G14: 0 | H14: 0 | I14: 0 | J14: 0 | K14: 0 | L14: 0 | M14: 0 | N14: 0 | O14: 0 | P14: 0 | Q14: 0 | R14: 0 | S14: =SUM(E14:R14) -> 0
A15: 1D100 | D15: Salute animale e igiene urbana veterinaria | E15: 0 | F15: 0 | G15: 0 | H15: 0 | I15: 0 | J15: 0 | K15: 0 | L15: 0 | M15: 0 | N15: 0 | O15: 0 | P15: 0 | Q15: 0 | R15: 0 | S15: =SUM(E15:R15) -> 0
A16: 1E100 | D16: Sicurezza alimentare - Tutela della salute dei consumatori | E16: 0 | F16: 0 | G16: 0 | H16: 0 | I16: 0 | J16: 0 | K16: 0 | L16: 0 | M16: 0 | N16: 0 | O16: 0 | P16: 0 | Q16: 0 | R16: 0 | S16: =SUM(E16:R16) -> 0
A17: 1F100 | D17: Sorveglianza e prevenzione delle malattie croniche, inclusi la promozione di stili di vita sani ed i programmi organizzati di screening; sorveglianza e prevenzione nutrizionale | E17: =SUM(E18,E22) -> 0 | F17: =SUM(F18,F22) -> 0 | G17: =SUM(G18,G22) -> 0 | H17: =SUM(H18,H22) -> 0 | I17: =SUM(I18,I22) -> 0 | J17: =SUM(J18,J22) -> 0 | K17: =SUM(K18,K22) -> 0 | L17: =SUM(L18,L22) -> 0 | ... R17: =SUM(R18,R22) -> 0 | S17: =SUM(E17:R17) -> 0
B18: 1F110 | D18: Screening oncologici | E18: =SUM(E19:E21) -> 0 | F18: =SUM(F19:F21) -> 0 | G18: =SUM(G19:G21) -> 0 | H18: =SUM(H19:H21) -> 0 | I18: =SUM(I19:I21) -> 0 | J18: =SUM(J19:J21) -> 0 | K18: =SUM(K19:K21) -> 0 | L18: =SUM(L19:L21) -> 0 | ... R18: =SUM(R19:R21) -> 0 | S18: =SUM(E18:R18) -> 0
C19: 1F111 | D19: Programmi organizzati svolti in apposita Unità operativa/Centro di costo | E19: 0 | F19: 0 | G19: 0 | H19: 0 | I19: 0 | J19: 0 | K19: 0 | L19: 0 | M19: 0 | N19: 0 | O19: 0 | P19: 0 | Q19: 0 | R19: 0 | S19: =SUM(E19:R19) -> 0
C20: 1F112 | D20: Programmi organizzati svolti in ambito consultoriale/ambulatoriale territoriale | E20: 0 | F20: 0 | G20: 0 | H20: 0 | I20: 0 | J20: 0 | K20: 0 | L20: 0 | M20: 0 | N20: 0 | O20: 0 | P20: 0 | Q20: 0 | R20: 0 | S20: =SUM(E20:R20) -> 0
C21: 1F113 | D21: Programmi organizzati svolti in ambito ospedaliero | E21: 0 | F21: 0 | G21: 0 | H21: 0 | I21: 0 | J21: 0 | K21: 0 | L21: 0 | M21: 0 | N21: 0 | O21: 0 | P21: 0 | Q21: 0 | R21: 0 | S21: =SUM(E21:R21) -> 0
B22: 1F120 | D22: Altre attività di Sorveglianza e prevenzione delle malattie croniche, inclusi la promozione di stili di vita sani e prevenzione nutrizionale | E22: =SUM(E23,E24) -> 0 | F22: =SUM(F23,F24) -> 0 | G22: =SUM(G23,G24) -> 0 | H22: =SUM(H23,H24) -> 0 | I22: =SUM(I23,I24) -> 0 | J22: =SUM(J23,J24) -> 0 | K22: =SUM(K23,K24) -> 0 | L22: =SUM(L23,L24) -> 0 | ... R22: =SUM(R23,R24) -> 0 | S22: =SUM(E22:R22) -> 0
C23: 1F121 | D23: Altre attività svolte in ambito extra-ospedaliero | E23: 0 | F23: 0 | G23: 0 | H23: 0 | I23: 0 | J23: 0 | K23: 0 | L23: 0 | M23: 0 | N23: 0 | O23: 0 | P23: 0 | Q23: 0 | R23: 0 | S23: =SUM(E23:R23) -> 0
C24: 1F122 | D24: Altre attività svolte in ambito ospedaliero | E24: 0 | F24: 0 | G24: 0 | H24: 0 | I24: 0 | J24: 0 | K24: 0 | L24: 0 | M24: 0 | N24: 0 | O24: 0 | P24: 0 | Q24: 0 | R24: 0 | S24: =SUM(E24:R24) -> 0
A25: 1G100 | D25: Attività medico legali per finalità pubbliche | E25: 0 | F25: 0 | G25: 0 | H25: 0 | I25: 0 | J25: 0 | K25: 0 | L25: 0 | M25: 0 | N25: 0 | O25: 0 | P25: 0 | Q25: 0 | R25: 0 | S25: =SUM(E25:R25) -> 0
A26: 1H100 | D26: Contributo Legge 210/92 | E26: 0 | F26: 0 | G26: 0 | H26: 0 | I26: 0 | J26: 0 | K26: 0 | L26: 0 | M26: 0 | N26: 0 | O26: 0 | P26: 0 | Q26: 0 | R26: 0 | S26: =SUM(E26:R26) -> 0
A27: 19999 | D27: TOTALE PREVENZIONE COLLETTIVA E SANITA' PUBBLICA | E27: =SUM(E10,E13,E14,E15,E16,E17,E25,E26) -> 0 | F27: =SUM(F10,F13,F14,F15,F16,F17,F25,F26) -> 0 | G27: =SUM(G10,G13,G14,G15,G16,G17,G25,G26) -> 0 | H27: =SUM(H10,H13,H14,H15,H16,H17,H25,H26) -> 0 | I27: =SUM(I10,I13,I14,I15,I16,I17,I25,I26) -> 0 | J27: =SUM(J10,J13,J14,J15,J16,J17,J25,J26) -> 0 | K27: =SUM(K10,K13,K14,K15,K16,K17,K25,K26) -> 0 | L27: =SUM(L10,L13,L14,L15,L16,L17,L25,L26) -> 0 | ... R27: =SUM(R10,R13,R14,R15,R16,R17,R25,R26) -> 0 | S27: =SUM(E27:R27) -> 0
A28: ASSISTENZA DISTRETTUALE
A29: 2A100 | D29: Assistenza sanitaria di base | E29: =SUM(E30,E37,E43) -> 0 | F29: =SUM(F30,F37,F43) -> 0 | G29: =SUM(G30,G37,G43) -> 0 | H29: =SUM(H30,H37,H43) -> 0 | I29: =SUM(I30,I37,I43) -> 0 | J29: =SUM(J30,J37,J43) -> 0 | K29: =SUM(K30,K37,K43) -> 0 | L29: =SUM(L30,L37,L43) -> 0 | ... R29: =SUM(R30,R37,R43) -> 0 | S29: =SUM(E29:R29) -> 0
B30: 2A110 | D30: Medicina generale | E30: =SUM(E31:E36) -> 0 | F30: =SUM(F31:F36) -> 0 | G30: =SUM(G31:G36) -> 0 | H30: =SUM(H31:H36) -> 0 | I30: =SUM(I31:I36) -> 0 | J30: =SUM(J31:J36) -> 0 | K30: =SUM(K31:K36) -> 0 | L30: =SUM(L31:L36) -> 0 | ... R30: =SUM(R31:R36) -> 0 | S30: =SUM(E30:R30) -> 0
C31: 2A111 | D31: Medicina generale - Attività in convenzione | E31: 0 | F31: 0 | G31: 0 | H31: 0 | I31: 0 | J31: 0 | K31: 0 | L31: 0 | M31: 0 | N31: 0 | O31: 0 | P31: 0 | Q31: 0 | R31: 0 | S31: =SUM(E31:R31) -> 0
C32: 2A112 | D32: Medicina generale - Prestazioni erogate nelle cure domiciliari | E32: 0 | F32: 0 | G32: 0 | H32: 0 | I32: 0 | J32: 0 | K32: 0 | L32: 0 | M32: 0 | N32: 0 | O32: 0 | P32: 0 | Q32: 0 | R32: 0 | S32: =SUM(E32:R32) -> 0
C33: 2A113 | D33: Medicina generale - Prestazioni erogate presso strutture residenziali e semiresidenziali | E33: 0 | F33: 0 | G33: 0 | H33: 0 | I33: 0 | J33: 0 | K33: 0 | L33: 0 | M33: 0 | N33: 0 | O33: 0 | P33: 0 | Q33: 0 | R33: 0 | S33: =SUM(E33:R33) -> 0
C34: 2A114 | D34: Medicina generale - Programmi vaccinali | E34: 0 | F34: 0 | G34: 0 | H34: 0 | I34: 0 | J34: 0 | K34: 0 | L34: 0 | M34: 0 | N34: 0 | O34: 0 | P34: 0 | Q34: 0 | R34: 0 | S34: =SUM(E34:R34) -> 0
C35: 2A115 | D35: Medicina generale - Attività presso UCCP | E35: 0 | F35: 0 | G35: 0 | H35: 0 | I35: 0 | J35: 0 | K35: 0 | L35: 0 | M35: 0 | N35: 0 | O35: 0 | P35: 0 | Q35: 0 | R35: 0 | S35: =SUM(E35:R35) -> 0
C36: 2A116 | D36: Medicina generale - Attività presso - Ospedali di Comunità | E36: 0 | F36: 0 | G36: 0 | H36: 0 | I36: 0 | J36: 0 | K36: 0 | L36: 0 | M36: 0 | N36: 0 | O36: 0 | P36: 0 | Q36: 0 | R36: 0 | S36: =SUM(E36:R36) -> 0
B37: 2A120 | D37: Pediatria di libera scelta | E37: =SUM(E38:E42) -> 0 | F37: =SUM(F38:F42) -> 0 | G37: =SUM(G38:G42) -> 0 | H37: =SUM(H38:H42) -> 0 | I37: =SUM(I38:I42) -> 0 | J37: =SUM(J38:J42) -> 0 | K37: =SUM(K38:K42) -> 0 | L37: =SUM(L38:L42) -> 0 | ... R37: =SUM(R38:R42) -> 0 | S37: =SUM(E37:R37) -> 0
C38: 2A121 | D38: Pediatria di libera scelta - Attività in convenzione | E38: 0 | F38: 0 | G38: 0 | H38: 0 | I38: 0 | J38: 0 | K38: 0 | L38: 0 | M38: 0 | N38: 0 | O38: 0 | P38: 0 | Q38: 0 | R38: 0 | S38: =SUM(E38:R38) -> 0
C39: 2A122 | D39: Pediatria di libera scelta - Prestazioni erogate nelle cure domiciliari | E39: 0 | F39: 0 | G39: 0 | H39: 0 | I39: 0 | J39: 0 | K39: 0 | L39: 0 | M39: 0 | N39: 0 | O39: 0 | P39: 0 | Q39: 0 | R39: 0 | S39: =SUM(E39:R39) -> 0
C40: 2A123 | D40: Pediatria di libera scelta - Programmi vaccinali | E40: 0 | F40: 0 | G40: 0 | H40: 0 | I40: 0 | J40: 0 | K40: 0 | L40: 0 | M40: 0 | N40: 0 | O40: 0 | P40: 0 | Q40: 0 | R40: 0 | S40: =SUM(E40:R40) -> 0
C41: 2A124 | D41: Pediatria di libera scelta - Attività presso UCCP | E41: 0 | F41: 0 | G41: 0 | H41: 0 | I41: 0 | J41: 0 | K41: 0 | L41: 0 | M41: 0 | N41: 0 | O41: 0 | P41: 0 | Q41: 0 | R41: 0 | S41: =SUM(E41:R41) -> 0
C42: 2A125 | D42: Pediatria di libera scelta - Attività presso Ospedali di Comunità | E42: 0 | F42: 0 | G42: 0 | H42: 0 | I42: 0 | J42: 0 | K42: 0 | L42: 0 | M42: 0 | N42: 0 | O42: 0 | P42: 0 | Q42: 0 | R42: 0 | S42: =SUM(E42:R42) -> 0
B43: 2A130 | D43: Altra assistenza sanitaria di base | E43: =SUM(E44:E45) -> 0 | F43: =SUM(F44:F45) -> 0 | G43: =SUM(G44:G45) -> 0 | H43: =SUM(H44:H45) -> 0 | I43: =SUM(I44:I45) -> 0 | J43: =SUM(J44:J45) -> 0 | K43: =SUM(K44:K45) -> 0 | L43: =SUM(L44:L45) -> 0 | ... R43: =SUM(R44:R45) -> 0 | S43: =SUM(E43:R43) -> 0
...

Sheet Allegato 3.a
D1: ALLEGATO 1 AL MODELLO DI RILEVAZIONE DEI COSTI DEI LIVELLI DI ASSISTENZA
A2: STRUTTURA RILEVATA | F2: OGGETTO DELLA RILEVAZIONE
A4: REGIONE | B4: 120 | D4: CODICE ENTE | E4: ='Modello LA'!G4 -> 120921 | F4: CONSUNTIVO ANNO | M4: 2022
D7: Macrovoci economiche | E7: Totale costi modello LA | F7: Mobilità attiva extra-regionale AA0460+AA0470+AA0471+AA0490+AA0500+AA0510+AA0520+AA0530+AA0550+AA0560+AA0561+AA0620+AA0630+AA0631+AA0640+AA0650+EA0080+EA0180 | G7: Mobilità passiva extra-regionale BA0062+BA0090+BA0480+BA0520+BA0560+BA0561+BA0730+BA0780+BA0830+BA0990+BA1060+BA1161+BA1120+BA1550+EA0360+EA0490 | H7: Mobilità attiva internazionale AA0600 | I7: Mobilità passiva internazionale BA1540 | J7: Ricavi per prestazioni sanitarie erogate in regime di intramoenia AA0670 | K7: Costi per prestazioni extra Lea | L7: Assistenza stranieri irregolari | M7: Ricavi per attività di ricerca AA0190+AA0200+A A0210+AA0220+AA0300
A9: PREVENZIONE COLLETTIVA E SANITA' PUBBLICA
A10: 1A100 | D10: Sorveglianza, prevenzione e controllo delle malattie infettive e parassitarie, inclusi i programmi vaccinali | E10: ='Modello LA'!S10 -> 0 | F10: =SUM(F11:F12) -> 0 | G10: =SUM(G11:G12) -> 0 | H10: =SUM(H11:H12) -> 0 | I10: =SUM(I11:I12) -> 0 | J10: =SUM(J11:J12) -> 0 | K10: =SUM(K11:K12) -> 0 | L10: =SUM(L11:L12) -> 0 | M10: =SUM(M11:M12) -> 0
B11: 1A110 | D11: Vaccinazioni | E11: ='Modello LA'!S11 -> 0 | F11: 0 | G11: 0 | H11: 0 | I11: 0 | J11: 0 | K11: 0 | L11: 0 | M11: 0
B12: 1A120 | D12: Altri interventi per la sorveglianza, prevenzione e controllo delle malattie infettive e parassitarie | E12: ='Modello LA'!S12 -> 0 | F12: 0 | G12: 0 | H12: 0 | I12: 0 | J12: 0 | K12: 0 | L12: 0 | M12: 0
A13: 1B100 | D13: Tutela della salute e della sicurezza degli ambienti aperti e confinati | E13: ='Modello LA'!S13 -> 0 | F13: 0 | G13: 0 | H13: 0 | I13: 0 | J13: 0 | K13: 0 | L13: 0 | M13: 0
A14: 1C100 | D14: Sorveglianza, prevenzione e tutela della salute e sicurezza nei luoghi di lavoro | E14: ='Modello LA'!S14 -> 0 | F14: 0 | G14: 0 | H14: 0 | I14: 0 | J14: 0 | K14: 0 | L14: 0 | M14: 0
A15: 1D100 | D15: Salute animale e igiene urbana veterinaria | E15: ='Modello LA'!S15 -> 0 | F15: 0 | G15: 0 | H15: 0 | I15: 0 | J15: 0 | K15: 0 | L15: 0 | M15: 0
A16: 1E100 | D16: Sicurezza alimentare - Tutela della salute dei consumatori | E16: ='Modello LA'!S16 -> 0 | F16: 0 | G16: 0 | H16: 0 | I16: 0 | J16: 0 | K16: 0 | L16: 0 | M16: 0
A17: 1F100 | D17: Sorveglianza e prevenzione delle malattie croniche, inclusi la promozione di stili di vita sani ed i programmi organizzati di screening; sorveglianza e prevenzione nutrizionale | E17: ='Modello LA'!S17 -> 0 | F17: =SUM(F18,F22) -> 0 | G17: =SUM(G18,G22) -> 0 | H17: =SUM(H18,H22) -> 0 | I17: =SUM(I18,I22) -> 0 | J17: =SUM(J18,J22) -> 0 | K17: =SUM(K18,K22) -> 0 | L17: =SUM(L18,L22) -> 0 | M17: =SUM(M18,M22) -> 0
B18: 1F110 | D18: Screening oncologici | E18: ='Modello LA'!S18 -> 0 | F18: =SUM(F19:F21) -> 0 | G18: =SUM(G19:G21) -> 0 | H18: =SUM(H19:H21) -> 0 | I18: =SUM(I19:I21) -> 0 | J18: =SUM(J19:J21) -> 0 | K18: =SUM(K19:K21) -> 0 | L18: =SUM(L19:L21) -> 0 | M18: =SUM(M19:M21) -> 0
C19: 1F111 | D19: Programmi organizzati svolti in apposita Unità operativa/Centro di costo | E19: ='Modello LA'!S19 -> 0 | F19: 0 | G19: 0 | H19: 0 | I19: 0 | J19: 0 | K19: 0 | L19: 0 | M19: 0
C20: 1F112 | D20: Programmi organizzati svolti in ambito consultoriale/ambulatoriale territoriale | E20: ='Modello LA'!S20 -> 0 | F20: 0 | G20: 0 | H20: 0 | I20: 0 | J20: 0 | K20: 0 | L20: 0 | M20: 0
C21: 1F113 | D21: Programmi organizzati svolti in ambito ospedaliero | E21: ='Modello LA'!S21 -> 0 | F21: 0 | G21: 0 | H21: 0 | I21: 0 | J21: 0 | K21: 0 | L21: 0 | M21: 0
B22: 1F120 | D22: Altre attività di Sorveglianza e prevenzione delle malattie croniche, inclusi la promozione di stili di vita sani e prevenzione nutrizionale | E22: ='Modello LA'!S22 -> 0 | F22: =SUM(F23:F24) -> 0 | G22: =SUM(G23:G24) -> 0 | H22: =SUM(H23:H24) -> 0 | I22: =SUM(I23:I24) -> 0 | J22: =SUM(J23:J24) -> 0 | K22: =SUM(K23:K24) -> 0 | L22: =SUM(L23:L24) -> 0 | M22: =SUM(M23:M24) -> 0
C23: 1F121 | D23: Altre attività svolte in ambito extra-ospedaliero | E23: ='Modello LA'!S23 -> 0 | F23: 0 | G23: 0 | H23: 0 | I23: 0 | J23: 0 | K23: 0 | L23: 0 | M23: 0
C24: 1F122 | D24: Altre attività svolte in ambito ospedaliero | E24: ='Modello LA'!S24 -> 0 | F24: 0 | G24: 0 | H24: 0 | I24: 0 | J24: 0 | K24: 0 | L24: 0 | M24: 0
A25: 1G100 | D25: Attività medico legali per finalità pubbliche | E25: ='Modello LA'!S25 -> 0 | F25: 0 | G25: 0 | H25: 0 | I25: 0 | J25: 0 | K25: 0 | L25: 0 | M25: 0
A26: 1H100 | D26: Contributo Legge 210/92 | E26: ='Modello LA'!S26 -> 0 | F26: 0 | G26: 0 | H26: 0 | I26: 0 | J26: 0 | K26: 0 | L26: 0 | M26: 0
A27: 19999 | D27: TOTALE PREVENZIONE COLLETTIVA E SANITA' PUBBLICA | E27: ='Modello LA'!S27 -> 0 | F27: =SUM(F10,F13,F14,F15,F16,F17,F25,F26) -> 0 | G27: =SUM(G10,G13,G14,G15,G16,G17,G25,G26) -> 0 | H27: =SUM(H10,H13,H14,H15,H16,H17,H25,H26) -> 0 | I27: =SUM(I10,I13,I14,I15,I16,I17,I25,I26) -> 0 | J27: =SUM(J10,J13,J14,J15,J16,J17,J25,J26) -> 0 | K27: =SUM(K10,K13,K14,K15,K16,K17,K25,K26) -> 0 | L27: =SUM(L10,L13,L14,L15,L16,L17,L25,L26) -> 0 | M27: =SUM(M10,M13,M14,M15,M16,M17,M25,M26) -> 0
A28: ASSISTENZA DISTRETTUALE
A29: 2A100 | D29: Assistenza sanitaria di base | E29: ='Modello LA'!S29 -> 0 | F29: =SUM(F30,F37,F43) -> 0 | G29: =SUM(G30,G37,G43) -> 0 | H29: =SUM(H30,H37,H43) -> 0 | I29: =SUM(I30,I37,I43) -> 0 | J29: =SUM(J30,J37,J43) -> 0 | K29: =SUM(K30,K37,K43) -> 0 | L29: =SUM(L30,L37,L43) -> 0 | M29: =SUM(M30,M37,M43) -> 0
B30: 2A110 | D30: Medicina generale | E30: ='Modello LA'!S30 -> 0 | F30: =SUM(F31:F36) -> 0 | G30: =SUM(G31:G36) -> 0 | H30: =SUM(H31:H36) -> 0 | I30: =SUM(I31:I36) -> 0 | J30: =SUM(J31:J36) -> 0 | K30: =SUM(K31:K36) -> 0 | L30: =SUM(L31:L36) -> 0 | M30: =SUM(M31:M36) -> 0
C31: 2A111 | D31: Medicina generale - Attività in convenzione | E31: ='Modello LA'!S31 -> 0 | F31: 0 | G31: 0 | H31: 0 | I31: 0 | J31: 0 | K31: 0 | L31: 0 | M31: 0
C32: 2A112 | D32: Medicina generale - Prestazioni erogate nelle cure domiciliari | E32: ='Modello LA'!S32 -> 0 | F32: 0 | G32: 0 | H32: 0 | I32: 0 | J32: 0 | K32: 0 | L32: 0 | M32: 0
C33: 2A113 | D33: Medicina generale - Prestazioni erogate presso strutture residenziali e semiresidenziali | E33: ='Modello LA'!S33 -> 0 | F33: 0 | G33: 0 | H33: 0 | I33: 0 | J33: 0 | K33: 0 | L33: 0 | M33: 0
C34: 2A114 | D34: Medicina generale - Programmi vaccinali | E34: ='Modello LA'!S34 -> 0 | F34: 0 | G34: 0 | H34: 0 | I34: 0 | J34: 0 | K34: 0 | L34: 0 | M34: 0
C35: 2A115 | D35: Medicina generale - Attività presso UCCP | E35: ='Modello LA'!S35 -> 0 | F35: 0 | G35: 0 | H35: 0 | I35: 0 | J35: 0 | K35: 0 | L35: 0 | M35: 0
C36: 2A116 | D36: Medicina generale - Attività presso - Ospedali di Comunità | E36: ='Modello LA'!S36 -> 0 | F36: 0 | G36: 0 | H36: 0 | I36: 0 | J36: 0 | K36: 0 | L36: 0 | M36: 0
B37: 2A120 | D37: Pediatria di libera scelta | E37: ='Modello LA'!S37 -> 0 | F37: =SUM(F38:F42) -> 0 | G37: =SUM(G38:G42) -> 0 | H37: =SUM(H38:H42) -> 0 | I37: =SUM(I38:I42) -> 0 | J37: =SUM(J38:J42) -> 0 | K37: =SUM(K38:K42) -> 0 | L37: =SUM(L38:L42) -> 0 | M37: =SUM(M38:M42) -> 0
C38: 2A121 | D38: Pediatria di libera scelta - Attività in convenzione | E38: ='Modello LA'!S38 -> 0 | F38: 0 | G38: 0 | H38: 0 | I38: 0 | J38: 0 | K38: 0 | L38: 0 | M38: 0
C39: 2A122 | D39: Pediatria di libera scelta - Prestazioni erogate nelle cure domiciliari | E39: ='Modello LA'!S39 -> 0 | F39: 0 | G39: 0 | H39: 0 | I39: 0 | J39: 0 | K39: 0 | L39: 0 | M39: 0
C40: 2A123 | D40: Pediatria di libera scelta - Programmi vaccinali | E40: ='Modello LA'!S40 -> 0 | F40: 0 | G40: 0 | H40: 0 | I40: 0 | J40: 0 | K40: 0 | L40: 0 | M40: 0
C41: 2A124 | D41: Pediatria di libera scelta - Attività presso UCCP | E41: ='Modello LA'!S41 -> 0 | F41: 0 | G41: 0 | H41: 0 | I41: 0 | J41: 0 | K41: 0 | L41: 0 | M41: 0
C42: 2A125 | D42: Pediatria di libera scelta - Attività presso Ospedali di Comunità | E42: ='Modello LA'!S42 -> 0 | F42: 0 | G42: 0 | H42: 0 | I42: 0 | J42: 0 | K42: 0 | L42: 0 | M42: 0
B43: 2A130 | D43: Altra assistenza sanitaria di base | E43: ='Modello LA'!S43 -> 0 | F43: =SUM(F44:F45) -> 0 | G43: =SUM(G44:G45) -> 0 | H43: =SUM(H44:H45) -> 0 | I43: =SUM(I44:I45) -> 0 | J43: =SUM(J44:J45) -> 0 | K43: =SUM(K44:K45) -> 0 | L43: =SUM(L44:L45) -> 0 | M43: =SUM(M44:M45) -> 0
C44: 2A131 | D44: Altra assistenza sanitaria di base : Assistenza distrettuale e UCCP | E44: ='Modello LA'!S44 -> 0 | F44: 0 | G44: 0 | H44: 0 | I44: 0 | J44: 0 | K44: 0 | L44: 0 | M44: 0
...

Sheet Allegato 3.b
A2: ALLEGATO 2 - Prestazioni eventualmente erogate non riconducibili ai livelli essenziali di assistenza (non incluse nel DPCM 12 gennaio 2017)
A4: 19999 | B4: TOTALE PREVENZIONE COLLETTIVA E SANITA' PUBBLICA | C4: costi totali | D4: 29999 | E4: TOTALE ASSISTENZA DISTRETTUALE | F4: costi totali | G4: 39999 | H4: TOTALE ASSISTENZA OSPEDALIERA | I4: costi totali
C5: ='Allegato 3.a'!K27 -> 0 | F5: ='Allegato 3.a'!K99 -> 0 | I5: ='Allegato 3.a'!K118 -> 0
S120: =SUM(E120:R120) -> 0
