Workbook

Sheet Modello LA
A1: MODELLO DI RILEVAZIONE DEI COSTI DEI LIVELLI DI ASSISTENZA DEGLI ENTI DEL SERVIZIO SANITARIO NAZIONALE
D2: STRUTTURA RILEVATA | J2: OGGETTO DELLA RILEVAZIONE
D4: REGIONE | E4: 120 | F4: CODICE ENTE | G4: 120921 | J4: CONSUNTIVO ANNO | O4: 2022
D7: Macrovoci economiche | E7: Consumi di esercizio | G7: Costi per acquisti di servizi | J7: Personale | O7: Ammortamenti | P7: Sopravvenienze Insussistenze | Q7: Altri costi | R7: Oneri finanziari, svalutazioni, minusvalenze | S7: Totale
E8: Beni sanitari | F8: Beni non sanitari | G8: prestazioni sanitarie | H8: servizi sanitari per erogazione di prestazioni | I8: servizi non sanitari | J8: Ruolo sanitario | K8: Ruolo professionale | L8: Ruolo tecnico | M8: Ruolo amministrativo | N8: Ruolo della ricerca sanitaria - NON COMPILARE -
A9: PREVENZIONE COLLETTIVA E SANITA' PUBBLICA
A10: 1A100 | D10: Sorveglianza, prevenzione e controllo delle malattie infettive e parassitarie, inclusi i programmi vaccinali | E10: =SUM(E11:E12) -> 0 | F10: =SUM(F11:F12) -> 0 | G10: =SUM(G11:G12) -> 0 | H10: =SUM(H11:H12) -> 0 | I10: =SUM(I11:I12) -> 0 | J10: =SUM(J11:J12) -> 0 | K10: =SUM(K11:K12) -> 0 | L10: =SUM(L11:L12) -> 0 | ... R10: =SUM(R11:R12) -> 0 | S10: =SUM(E10:R10) -> 0
B11: 1A110 | D11: Vaccinazioni | E11: 0 | F11: 0 | G11: 0 | H11: 0 | I11: 0 | J11: 0 | K11: 0 | L11: 0 | M11: 0 | N11: 0 | O11: 0 | P11: 0 | Q11: 0 | R11: 0 | S11: =SUM(E11:R11) -> 0
B12: 1A120 | D12: Altri interventi per la sorveglianza, prevenzione e controllo delle malattie infettive e parassitarie | E12: 0 | F12: 0 | G12: 0 | H12: 0 | I12: 0 | J12: 0 | K12: 0 | L12: 0 | M12: 0 | N12: 0 | O12: 0 | P12: 0 | Q12: 0 | R12: 0 | S12: =SUM(E12:R12) -> 0
A13: 1B100 | D13: Tutela della salute e della sicurezza degli ambienti aperti e confinati | E13: 0 | F13: 0 | G13: 0 | H13: 0 | I13: 0 | J13: 0 | K13: 0 | L13: 0 | M13: 0 | N13: 0 | O13: 0 | P13: 0 | Q13: 0 | R13: 0 | S13: =SUM(E13:R13) -> 0
A14: 1C100 | D14: Sorveglianza, prevenzione e tutela della salute e sicurezza nei luoghi di lavoro | E14: 0 | F14: 0 | G14: 0 | H14: 0 | I14: 0 | J14: 0 | K14: 0 | L14: 0 | M14: 0 | N14: 0 | O14: 0 | P14: 0 | Q14: 0 | R14: 0 | S14: =SUM(E14:R14) -> 0
A15: 1D100 | D15: Salute animale e igiene urbana veterinaria | E15: 0 | F15: 0 | G15: 0 | H15: 0 | I15: 0 | J15: 0 | K15: 0 | L15: 0 | M15: 0 | N15: 0 | O15: 0 | P15: 0 | Q15: 0 | R15: 0 | S15: =SUM(E15:R15) -> 0
A16: 1E100 | D16: Sicurezza alimentare - Tutela della salute dei consumatori | E16: 0 | F16: 0 | G16: 0 | H16: 0 | I16: 0 | J16: 0 | K16: 0 | L16: 0 | M16: 0 | N16: 0 | O16: 0 | P16: 0 | Q16: 0 | R16: 0 | S16: =SUM(E16:R16) -> 0
A17: 1F100 | D17: Sorveglianza e prevenzione delle malattie croniche, inclusi la promozione di stili di vita sani ed i programmi organizzati di screening; sorveglianza e prevenzione nutrizionale | E17: =SUM(E18,E22) -> 0 | F17: =SUM(F18,F22) -> 0 | G17: =SUM(G18,G22) -> 0 | H17: =SUM(H18,H22) -> 0 | I17: =SUM(I18,I22) -> 0 | J17: =SUM(J18,J22) -> 0 | K17: =SUM(K18,K22) -> 0 | L17: =SUM(L18,L22) -> 0 | ... R17: =SUM(R18,R22) -> 0 | S17: =SUM(E17:R17) -> 0
B18: 1F110 | D18: Screening oncologici | E18: =SUM(E19:E21) -> 0 | F18: =SUM(F19:F21) -> 0 | G18: =SUM(G19:G21) -> 0 | H18: =SUM(H19:H21) -> 0 | I18: =SUM(I19:I21) -> 0 | J18: =SUM(J19:J21) -> 0 | K18: =SUM(K19:K21) -> 0 | L18: =SUM(L19:L21) -> 0 | ... R18: =SUM(R19:R21) -> 0 | S18: =SUM(E18:R18) -> 0
C19: 1F111 | D19: Programmi organizzati svolti in apposita Unità operativa/Centro di costo | E19: 0 | F19: 0 | G19: 0 | H19: 0 | I19: 0 | J19: 0 | K19: 0 | L19: 0 | M19: 0 | N19: 0 | O19: 0 | P19: 0 | Q19: 0 | R19: 0 | S19: =SUM(E19:R19) -> 0
C20: 1F112 | D20: Programmi organizzati svolti in ambito consultoriale/ambulatoriale territoriale | E20: 0 | F20: 0 | G20: 0 | H20: 0 | I20: 0 | J20: 0 | K20: 0 | L20: 0 | M20: 0 | N20: 0 | O20: 0 | P20: 0 | Q20: 0 | R20: 0 | S20: =SUM(E20:R20) -> 0
C21: 1F113 | D21: Programmi organizzati svolti in ambito ospedaliero | E21: 0 | F21: 0 | G21: 0 | H21: 0 | I21: 0 | J21: 0 | K21: 0 | L21: 0 | M21: 0 | N21: 0 | O21: 0 | P21: 0 | Q21: 0 | R21: 0 | S21: =SUM(E21:R21) -> 0
B22: 1F120 | D22: Altre attività di Sorveglianza e prevenzione delle malattie croniche, inclusi la promozione di stili di vita sani e prevenzione nutrizionale | E22: =SUM(E23,E24) -> 0 | F22: =SUM(F23,F24) -> 0 | G22: =SUM(G23,G24) -> 0 | H22: =SUM(H23,H24) -> 0 | I22: =SUM(I23,I24) -> 0 | J22: =SUM(J23,J24) -> 0 | K22: =SUM(K23,K24) -> 0 | L22: =SUM(L23,L24) -> 0 | ... R22: =SUM(R23,R24) -> 0 | S22: =SUM(E22:R22) -> 0
C23: 1F121 | D23: Altre attività svolte in ambito extra-ospedaliero | E23: 0 | F23: 0 | G23: 0 | H23: 0 | I23: 0 | J23: 0 | K23: 0 | L23: 0 | M23: 0 | N23: 0 | O23: 0 | P23: 0 | Q23: 0 | R23: 0 | S23: =SUM(E23:R23) -> 0
C24: 1F122 | D24: Altre attività svolte in ambito ospedaliero | E24: 0 | F24: 0 | G24: 0 | H24: 0 | I24: 0 | J24: 0 | K24: 0 | L24: 0 | M24: 0 | N24: 0 | O24: 0 | P24: 0 | Q24: 0 | R24: 0 | S24: =SUM(E24:R24) -> 0
A25: 1G100 | D25: Attività medico legali per finalità pubbliche | E25: 0 | F25: 0 | G25: 0 | H25: 0 | I25: 0 | J25: 0 | K25: 0 | L25: 0 | M25: 0 | N25: 0 | O25: 0 | P25: 0 | Q25: 0 | R25: 0 | S25: =SUM(E25:R25) -> 0
A26: 1H100 | D26: Contributo Legge 210/92 | E26: 0 | F26: 0 | G26: 0 | H26: 0 | I26: 0 | J26: 0 | K26: 0 | L26: 0 | M26: 0 | N26: 0 | O26: 0 | P26: 0 | Q26: 0 | R26: 0 | S26: =SUM(E26:R26) -> 0
A27: 19999 | D27: TOTALE PREVENZIONE COLLETTIVA E SANITA' PUBBLICA | E27: =SUM(E10,E13,E14,E15,E16,E17,E25,E26) -> 0 | F27: =SUM(F10,F13,F14,F15,F16,F17,F25,F26) -> 0 | G27: =SUM(G10,G13,G14,G15,G16,G17,G25,G26) -> 0 | H27: =SUM(H10,H13,H14,H15,H16,H17,H25,H26) -> 0 | I27: =SUM(I10,I13,I14,I15,I16,I17,I25,I26) -> 0 | J27: =SUM(J10,J13,J14,J15,J16,J17,J25,J26) -> 0 | K27: =SUM(K10,K13,K14,K15,K16,K17,K25,K26) -> 0 | L27: =SUM(L10,L13,L14,L15,L16,L17,L25,L26) -> 0 | ... R27: =SUM(R10,R13,R14,R15,R16,R17,R25,R26) -> 0 | S27: =SUM(E27:R27) -> 0
A28: ASSISTENZA DISTRETTUALE
A29: 2A100 | D29: Assistenza sanitaria di base | E29: =SUM(E30,E37,E43) -> 0 | F29: =SUM(F30,F37,F43) -> 0 | G29: =SUM(G30,G37,G43) -> 0 | H29: =SUM(H30,H37,H43) -> 0 | I29: =SUM(I30,I37,I43) -> 0 | J29: =SUM(J30,J37,J43) -> 0 | K29: =SUM(K30,K37,K43) -> 0 | L29: =SUM(L30,L37,L43) -> 0 | ... R29: =SUM(R30,R37,R43) -> 0 | S29: =SUM(E29:R29) -> 0
B30: 2A110 | D30: Medicina generale | E30: =SUM(E31:E36) -> 0 | F30: =SUM(F31:F36) -> 0 | G30: =SUM(G31:G36) -> 0 | H30: =SUM(H31:H36) -> 0 | I30: =SUM(I31:I36) -> 0 | J30: =SUM(J31:J36) -> 0 | K30: =SUM(K31:K36) -> 0 | L30: =SUM(L31:L36) -> 0 | ... R30: =SUM(R31:R36) -> 0 | S30: =SUM(E30:R30) -> 0
C31: 2A111 | D31: Medicina generale - Attività in convenzione | E31: 0 | F31: 0 | G31: 0 | H31: 0 | I31: 0 | J31: 0 | K31: 0 | L31: 0 | M31: 0 | N31: 0 | O31: 0 | P31: 0 | Q31: 0 | R31: 0 | S31: =SUM(E31:R31) -> 0
C32: 2A112 | D32: Medicina generale - Prestazioni erogate nelle cure domiciliari | E32: 0 | F32: 0 | G32: 0 | H32: 0 | I32: 0 | J32: 0 | K32: 0 | L32: 0 | M32: 0 | N32: 0 | O32: 0 | P32: 0 | Q32: 0 | R32: 0 | S32: =SUM(E32:R32) -> 0
C33: 2A113 | D33: Medicina generale - Prestazioni erogate presso strutture residenziali e semiresidenziali | E33: 0 | F33: 0 | G33: 0 | H33: 0 | I33: 0 | J33: 0 | K33: 0 | L33: 0 | M33: 0 | N33: 0 | O33: 0 | P33: 0 | Q33: 0 | R33: 0 | S33: =SUM(E33:R33) -> 0
C34: 2A114 | D34: Medicina generale - Programmi vaccinali | E34: 0 | F34: 0 | G34: 0 | H34: 0 | I34: 0 | J34: 0 | K34: 0 | L34: 0 | M34: 0 | N34: 0 | O34: 0 | P34: 0 | Q34: 0 | R34: 0 | S34: =SUM(E34:R34) -> 0
C35: 2A115 | D35: Medicina generale - Attività presso UCCP | E35: 0 | F35: 0 | G35: 0 | H35: 0 | I35: 0 | J35: 0 | K35: 0 | L35: 0 | M35: 0 | N35: 0 | O35: 0 | P35: 0 | Q35: 0 | R35: 0 | S35: =SUM(E35:R35) -> 0
C36: 2A116 | D36: Medicina generale - Attività presso - Ospedali di Comunità | E36: 0 | F36: 0 | G36: 0 | H36: 0 | I36: 0 | J36: 0 | K36: 0 | L36: 0 | M36: 0 | N36: 0 | O36: 0 | P36: 0 | Q36: 0 | R36: 0 | S36: =SUM(E36:R36) -> 0
B37: 2A120 | D37: Pediatria di libera scelta | E37: =SUM(E38:E42) -> 0 | F37: =SUM(F38:F42) -> 0 | G37: =SUM(G38:G42) -> 0 | H37: =SUM(H38:H42) -> 0 | I37: =SUM(I38:I42) -> 0 | J37: =SUM(J38:J42) -> 0 | K37: =SUM(K38:K42) -> 0 | L37: =SUM(L38:L42) -> 0 | ... R37: =SUM(R38:R42) -> 0 | S37: =SUM(E37:R37) -> 0
C38: 2A121 | D38: Pediatria di libera scelta - Attività in convenzione | E38: 0 | F38: 0 | G38: 0 | H38: 0 | I38: 0 | J38: 0 | K38: 0 | L38: 0 | M38: 0 | N38: 0 | O38: 0 | P38: 0 | Q38: 0 | R38: 0 | S38: =SUM(E38:R38) -> 0
C39: 2A122 | D39: Pediatria di libera scelta - Prestazioni erogate nelle cure domiciliari | E39: 0 | F39: 0 | G39: 0 | H39: 0 | I39: 0 | J39: 0 | K39: 0 | L39: 0 | M39: 0 | N39: 0 | O39: 0 | P39: 0 | Q39: 0 | R39: 0 | S39: =SUM(E39:R39) -> 0
C40: 2A123 | D40: Pediatria di libera scelta - Programmi vaccinali | E40: 0 | F40: 0 | G40: 0 | H40: 0 | I40: 0 | J40: 0 | K40: 0 | L40: 0 | M40: 0 | N40: 0 | O40: 0 | P40: 0 | Q40: 0 | R40: 0 | S40: =SUM(E40:R40) -> 0
C41: 2A124 | D41: Pediatria di libera scelta - Attività presso UCCP | E41: 0 | F41: 0 | G41: 0 | H41: 0 | I41: 0 | J41: 0 | K41: 0 | L41: 0 | M41: 0 | N41: 0 | O41: 0 | P41: 0 | Q41: 0 | R41: 0 | S41: =SUM(E41:R41) -> 0
C42: 2A125 | D42: Pediatria di libera scelta - Attività presso Ospedali di Comunità | E42: 0 | F42: 0 | G42: 0 | H42: 0 | I42: 0 | J42: 0 | K42: 0 | L42: 0 | M42: 0 | N42: 0 | O42: 0 | P42: 0 | Q42: 0 | R42: 0 | S42: =SUM(E42:R42) -> 0
B43: 2A130 | D43: Altra assistenza sanitaria di base | E43: =SUM(E44:E45) -> 0 | F43: =SUM(F44:F45) -> 0 | G43: =SUM(G44:G45) -> 0 | H43: =SUM(H44:H45) -> 0 | I43: =SUM(I44:I45) -> 0 | J43: =SUM(J44:J45) -> 0 | K43: =SUM(K44:K45) -> 0 | L43: =SUM(L44:L45) -> 0 | ... R43: =SUM(R44:R45) -> 0 | S43: =SUM(E43:R43) -> 0
C44: 2A131 | D44: Altra assistenza sanitaria di base : Assistenza distrettuale e UCCP | E44: 0 | F44: 0 | G44: 0 | H44: 0 | I44: 0 | J44: 0 | K44: 0 | L44: 0 | M44: 0 | N44: 0 | O44: 0 | P44: 0 | Q44: 0 | R44: 0 | S44: =SUM(E44:R44) -> 0
C45: 2A132 | D45: Altra assistenza sanitaria di base - Ospedali di Comunità | E45: 0 | F45: 0 | G45: 0 | H45: 0 | I45: 0 | J45: 0 | K45: 0 | L45: 0 | M45: 0 | N45: 0 | O45: 0 | P45: 0 | Q45: 0 | R45: 0 | S45: =SUM(E45:R45) -> 0
A46: 2B100 | D46: Continuità assistenziale | E46: 32465.11 | F46: 76281.13 | G46: 2233353.3 | H46: 214560.73 | I46: 524781.59 | J46: 2399796.1 | K46: 10087.15 | L46: 1333614.6 | M46: 148813.1 | N46: 0 | O46: 87674.67 | P46: 94086 | Q46: 199749.39 | R46: 0 | S46: =SUM(E46:R46) -> 7355262.9
A47: 2C100 | D47: Assistenza ai turisti | E47: 0 | F47: 0 | G47: 0 | H47: 0 | I47: 0 | J47: 0 | K47: 0 | L47: 0 | M47: 0 | N47: 0 | O47: 0 | P47: 0 | Q47: 0 | R47: 0 | S47: =SUM(E47:R47) -> 0
A48: 2D100 | D48: Emergenza sanitaria territoriale | E48: 1049705.1 | F48: 2466423.2 | G48: 72211755 | H48: 6937463.6 | I48: 16967938 | J48: 77593407 | K48: 326151.1 | L48: 43120207 | M48: 4811623.5 | N48: 0 | O48: 2720477.7 | P48: 3042113.9 | Q48: 6458563.7 | R48: 0 | S48: =SUM(E48:R48) -> 2.3770583e+08
A49: 2E100 | D49: Assistenza farmaceutica | E49: =SUM(E50:E51,E54) -> 0 | F49: =SUM(F50:F51,F54) -> 0 | G49: =SUM(G50:G51,G54) -> 0 | H49: =SUM(H50:H51,H54) -> 0 | I49: =SUM(I50:I51,I54) -> 0 | J49: =SUM(J50:J51,J54) -> 0 | K49: =SUM(K50:K51,K54) -> 0 | L49: =SUM(L50:L51,L54) -> 0 | ... R49: =SUM(R50:R51,R54) -> 0 | S49: =SUM(E49:R49) -> 0
B50: 2E110 | D50: Assistenza farmaceutica erogata in regime di convenzione | E50: 0 | F50: 0 | G50: 0 | H50: 0 | I50: 0 | J50: 0 | K50: 0 | L50: 0 | M50: 0 | N50: 0 | O50: 0 | P50: 0 | Q50: 0 | R50: 0 | S50: =SUM(E50:R50) -> 0
B51: 2E120 | D51: Assistenza farmaceutica - erogazione diretta a livello territoriale | E51: =SUM(E52:E53) -> 0 | F51: =SUM(F52:F53) -> 0 | G51: =SUM(G52:G53) -> 0 | H51: =SUM(H52:H53) -> 0 | I51: =SUM(I52:I53) -> 0 | J51: =SUM(J52:J53) -> 0 | K51: =SUM(K52:K53) -> 0 | L51: =SUM(L52:L53) -> 0 | ... R51: =SUM(R52:R53) -> 0 | S51: =SUM(E51:R51) -> 0
C52: 2E121 | D52: Assistenza farmaceutica - erogazione diretta a livello territoriale - Distribuzione Diretta | E52: 0 | F52: 0 | G52: 0 | H52: 0 | I52: 0 | J52: 0 | K52: 0 | L52: 0 | M52: 0 | N52: 0 | O52: 0 | P52: 0 | Q52: 0 | R52: 0 | S52: =SUM(E52:R52) -> 0
C53: 2E122 | D53: Assistenza farmaceutica - erogazione diretta a livello territoriale - Distribuzione Per Conto | E53: 0 | F53: 0 | G53: 0 | H53: 0 | I53: 0 | J53: 0 | K53: 0 | L53: 0 | M53: 0 | N53: 0 | O53: 0 | P53: 0 | Q53: 0 | R53: 0 | S53: =SUM(E53:R53) -> 0
B54: 2E130 | D54: Assistenza farmaceutica - erogazione diretta a livello ospedaliero | E54: 0 | F54: 0 | G54: 0 | H54: 0 | I54: 0 | J54: 0 | K54: 0 | L54: 0 | M54: 0 | N54: 0 | O54: 0 | P54: 0 | Q54: 0 | R54: 0 | S54: =SUM(E54:R54) -> 0
A55: 2F100 | D55: Assistenza integrativa e protesica | E55: =SUM(E56,E60) -> 0 | F55: =SUM(F56,F60) -> 0 | G55: =SUM(G56,G60) -> 0 | H55: =SUM(H56,H60) -> 0 | I55: =SUM(I56,I60) -> 0 | J55: =SUM(J56,J60) -> 0 | K55: =SUM(K56,K60) -> 0 | L55: =SUM(L56,L60) -> 0 | ... R55: =SUM(R56,R60) -> 0 | S55: =SUM(E55:R55) -> 0
B56: 2F110 | D56: Assistenza integrativa-Totale | E56: =SUM(E57,E58,E59) -> 0 | F56: =SUM(F57,F58,F59) -> 0 | G56: =SUM(G57,G58,G59) -> 0 | H56: =SUM(H57,H58,H59) -> 0 | I56: =SUM(I57,I58,I59) -> 0 | J56: =SUM(J57,J58,J59) -> 0 | K56: =SUM(K57,K58,K59) -> 0 | L56: =SUM(L57,L58,L59) -> 0 | ... R56: =SUM(R57,R58,R59) -> 0 | S56: =SUM(E56:R56) -> 0
C57: 2F111 | D57: Assistenza integrativa - Presidi per persone affette da malattia diabetica o da malattie rare | E57: 0 | F57: 0 | G57: 0 | H57: 0 | I57: 0 | J57: 0 | K57: 0 | L57: 0 | M57: 0 | N57: 0 | O57: 0 | P57: 0 | Q57: 0 | R57: 0 | S57: =SUM(E57:R57) -> 0
C58: 2F112 | D58: Assistenza integrativa - Prodotti destinati a un’alimentazione particolare | E58: 0 | F58: 0 | G58: 0 | H58: 0 | I58: 0 | J58: 0 | K58: 0 | L58: 0 | M58: 0 | N58: 0 | O58: 0 | P58: 0 | Q58: 0 | R58: 0 | S58: =SUM(E58:R58) -> 0
C59: 2F113 | D59: Assistenza integrativa - Dispositivi monouso | E59: 0 | F59: 0 | G59: 0 | H59: 0 | I59: 0 | J59: 0 | K59: 0 | L59: 0 | M59: 0 | N59: 0 | O59: 0 | P59: 0 | Q59: 0 | R59: 0 | S59: =SUM(E59:R59) -> 0
B60: 2F120 | D60: Assistenza protesica | E60: 0 | F60: 0 | G60: 0 | H60: 0 | I60: 0 | J60: 0 | K60: 0 | L60: 0 | M60: 0 | N60: 0 | O60: 0 | P60: 0 | Q60: 0 | R60: 0 | S60: =SUM(E60:R60) -> 0
A61: 2G100 | D61: Assistenza specialistica ambulatoriale | E61: =SUM(E62,E68,E74) -> 0 | F61: =SUM(F62,F68,F74) -> 0 | G61: =SUM(G62,G68,G74) -> 0 | H61: =SUM(H62,H68,H74) -> 0 | I61: =SUM(I62,I68,I74) -> 0 | J61: =SUM(J62,J68,J74) -> 0 | K61: =SUM(K62,K68,K74) -> 0 | L61: =SUM(L62,L68,L74) -> 0 | ... R61: =SUM(R62,R68,R74) -> 0 | S61: =SUM(E61:R61) -> 0
B62: 2G110 | D62: Assistenza specialistica ambulatoriale - Attività prodotta in ambito ospedaliero | E62: =SUM(E63:E67) -> 0 | F62: =SUM(F63:F67) -> 0 | G62: =SUM(G63:G67) -> 0 | H62: =SUM(H63:H67) -> 0 | I62: =SUM(I63:I67) -> 0 | J62: =SUM(J63:J67) -> 0 | K62: =SUM(K63:K67) -> 0 | L62: =SUM(L63:L67) -> 0 | ... R62: =SUM(R63:R67) -> 0 | S62: =SUM(E62:R62) -> 0
C63: 2G111 | D63: Assistenza specialistica ambulatoriale - Attività prodotta in ambito ospedaliero - Attività di laboratorio | E63: 0 | F63: 0 | G63: 0 | H63: 0 | I63: 0 | J63: 0 | K63: 0 | L63: 0 | M63: 0 | N63: 0 | O63: 0 | P63: 0 | Q63: 0 | R63: 0 | S63: =SUM(E63:R63) -> 0
C64: 2G112 | D64: Assistenza specialistica ambulatoriale - Attività prodotta in ambito ospedaliero – Diagnostica strumentale | E64: 0 | F64: 0 | G64: 0 | H64: 0 | I64: 0 | J64: 0 | K64: 0 | L64: 0 | M64: 0 | N64: 0 | O64: 0 | P64: 0 | Q64: 0 | R64: 0 | S64: =SUM(E64:R64) -> 0
C65: 2G113 | D65: Assistenza specialistica ambulatoriale - Attività prodotta in ambito ospedaliero – Attività clinica | E65: 0 | F65: 0 | G65: 0 | H65: 0 | I65: 0 | J65: 0 | K65: 0 | L65: 0 | M65: 0 | N65: 0 | O65: 0 | P65: 0 | Q65: 0 | R65: 0 | S65: =SUM(E65:R65) -> 0
C66: 2G114 | D66: Assistenza specialistica ambulatoriale - Attività prodotta in ambito ospedaliero - Farmaci ad alto costo rimborsati extra tariffa | E66: 0 | F66: 0 | G66: 0 | H66: 0 | I66: 0 | J66: 0 | K66: 0 | L66: 0 | M66: 0 | N66: 0 | O66: 0 | P66: 0 | Q66: 0 | R66: 0 | S66: =SUM(E66:R66) -> 0
C67: 2G115 | D67: Assistenza specialistica ambulatoriale - Attività prodotta in ambito ospedaliero - Dispositivi ad alto costo rimborsati extra tariffa | E67: 0 | F67: 0 | G67: 0 | H67: 0 | I67: 0 | J67: 0 | K67: 0 | L67: 0 | M67: 0 | N67: 0 | O67: 0 | P67: 0 | Q67: 0 | R67: 0 | S67: =SUM(E67:R67) -> 0
B68: 2G120 | D68: Assistenza specialistica ambulatoriale - Attività prodotta in ambito distrettuale e da terzi | E68: =SUM(E69,E70,E71,E72,E73) -> 0 | F68: =SUM(F69,F70,F71,F72,F73) -> 0 | G68: =SUM(G69,G70,G71,G72,G73) -> 0 | H68: =SUM(H69,H70,H71,H72,H73) -> 0 | I68: =SUM(I69,I70,I71,I72,I73) -> 0 | J68: =SUM(J69,J70,J71,J72,J73) -> 0 | K68: =SUM(K69,K70,K71,K72,K73) -> 0 | L68: =SUM(L69,L70,L71,L72,L73) -> 0 | ... R68: =SUM(R69,R70,R71,R72,R73) -> 0 | S68: =SUM(E68:R68) -> 0
C69: 2G121 | D69: Assistenza specialistica ambulatoriale - Attività prodotta in ambito distrettuale e da terzi - Attività di laboratorio | E69: 0 | F69: 0 | G69: 0 | H69: 0 | I69: 0 | J69: 0 | K69: 0 | L69: 0 | M69: 0 | N69: 0 | O69: 0 | P69: 0 | Q69: 0 | R69: 0 | S69: =SUM(E69:R69) -> 0
C70: 2G122 | D70: Assistenza specialistica ambulatoriale Attività prodotta in ambito distrettuale e da terzi – Diagnostica strumentale | E70: 0 | F70: 0 | G70: 0 | H70: 0 | I70: 0 | J70: 0 | K70: 0 | L70: 0 | M70: 0 | N70: 0 | O70: 0 | P70: 0 | Q70: 0 | R70: 0 | S70: =SUM(E70:R70) -> 0
C71: 2G123 | D71: Assistenza specialistica ambulatoriale - Attività prodotta in ambito distrettuale e da terzi - Attività clinica | E71: 0 | F71: 0 | G71: 0 | H71: 0 | I71: 0 | J71: 0 | K71: 0 | L71: 0 | M71: 0 | N71: 0 | O71: 0 | P71: 0 | Q71: 0 | R71: 0 | S71: =SUM(E71:R71) -> 0
C72: 2G124 | D72: Assistenza specialistica ambulatoriale - Attività prodotta in ambito distrettuale e da terzi – Farmaci ad alto costo rimborsati extra – tariffa | E72: 0 | F72: 0 | G72: 0 | H72: 0 | I72: 0 | J72: 0 | K72: 0 | L72: 0 | M72: 0 | N72: 0 | O72: 0 | P72: 0 | Q72: 0 | R72: 0 | S72: =SUM(E72:R72) -> 0
C73: 2G125 | D73: Assistenza specialistica ambulatoriale - Attività prodotta in ambito distrettuale e da terzi – Dispositivi ad alto costo rimborsati extra – tariffa | E73: 0 | F73: 0 | G73: 0 | H73: 0 | I73: 0 | J73: 0 | K73: 0 | L73: 0 | M73: 0 | N73: 0 | O73: 0 | P73: 0 | Q73: 0 | R73: 0 | S73: =SUM(E73:R73) -> 0
B74: 2G130 | D74: Assistenza specialistica ambulatoriale – Trasporto utenti | E74: 0 | F74: 0 | G74: 0 | H74: 0 | I74: 0 | J74: 0 | K74: 0 | L74: 0 | M74: 0 | N74: 0 | O74: 0 | P74: 0 | Q74: 0 | R74: 0 | S74: =SUM(E74:R74) -> 0
A75: 2H100 | D75: Assistenza sociosanitaria distrettuale, domiciliare e territoriale | E75: =SUM(E76,E79,E80,E81,E82,E83) -> 0 | F75: =SUM(F76,F79,F80,F81,F82,F83) -> 0 | G75: =SUM(G76,G79,G80,G81,G82,G83) -> 0 | H75: =SUM(H76,H79,H80,H81,H82,H83) -> 0 | I75: =SUM(I76,I79,I80,I81,I82,I83) -> 0 | J75: =SUM(J76,J79,J80,J81,J82,J83) -> 0 | K75: =SUM(K76,K79,K80,K81,K82,K83) -> 0 | L75: =SUM(L76,L79,L80,L81,L82,L83) -> 0 | ... R75: =SUM(R76,R79,R80,R81,R82,R83) -> 0 | S75: =SUM(E75:R75) -> 0
B76: 2H110 | D76: Assistenza sociosanitaria distrettuale, domiciliare e territoriale – Cure domiciliari | E76: =SUM(E77,E78) -> 0 | F76: =SUM(F77,F78) -> 0 | G76: =SUM(G77,G78) -> 0 | H76: =SUM(H77,H78) -> 0 | I76: =SUM(I77,I78) -> 0 | J76: =SUM(J77,J78) -> 0 | K76: =SUM(K77,K78) -> 0 | L76: =SUM(L77,L78) -> 0 | ... R76: =SUM(R77,R78) -> 0 | S76: =SUM(E76:R76) -> 0
C77: 2H111 | D77: Cure domiciliari | E77: 0 | F77: 0 | G77: 0 | H77: 0 | I77: 0 | J77: 0 | K77: 0 | L77: 0 | M77: 0 | N77: 0 | O77: 0 | P77: 0 | Q77: 0 | R77: 0 | S77: =SUM(E77:R77) -> 0
C78: 2H112 | D78: Cure palliative domiciliari | E78: 0 | F78: 0 | G78: 0 | H78: 0 | I78: 0 | J78: 0 | K78: 0 | L78: 0 | M78: 0 | N78: 0 | O78: 0 | P78: 0 | Q78: 0 | R78: 0 | S78: =SUM(E78:R78) -> 0
B79: 2H120 | D79: Assistenza sociosanitaria distrettuale, domiciliare e territoriale - Assistenza a minori, donne, coppie, famiglia (consultori) | E79: 0 | F79: 0 | G79: 0 | H79: 0 | I79: 0 | J79: 0 | K79: 0 | L79: 0 | M79: 0 | N79: 0 | O79: 0 | P79: 0 | Q79: 0 | R79: 0 | S79: =SUM(E79:R79) -> 0
B80: 2H130 | D80: Assistenza sociosanitaria distrettuale, domiciliare e territoriale - Assistenza ai minori con disturbi in ambito neuropsichiatrico e del neurosviluppo | E80: 0 | F80: 0 | G80: 0 | H80: 0 | I80: 0 | J80: 0 | K80: 0 | L80: 0 | M80: 0 | N80: 0 | O80: 0 | P80: 0 | Q80: 0 | R80: 0 | S80: =SUM(E80:R80) -> 0
B81: 2H140 | D81: Assistenza sociosanitaria distrettuale, domiciliare e territoriale - Assistenza alle persone con disturbi mentali | E81: 0 | F81: 0 | G81: 0 | H81: 0 | I81: 0 | J81: 0 | K81: 0 | L81: 0 | M81: 0 | N81: 0 | O81: 0 | P81: 0 | Q81: 0 | R81: 0 | S81: =SUM(E81:R81) -> 0
B82: 2H150 | D82: Assistenza sociosanitaria distrettuale, domiciliare e territoriale - Assistenza alle persone con disabilità | E82: 0 | F82: 0 | G82: 0 | H82: 0 | I82: 0 | J82: 0 | K82: 0 | L82: 0 | M82: 0 | N82: 0 | O82: 0 | P82: 0 | Q82: 0 | R82: 0 | S82: =SUM(E82:R82) -> 0
B83: 2H160 | D83: Assistenza sociosanitaria distrettuale, domiciliare e territoriale - Assistenza alle persone con dipendenze patologiche | E83: 0 | F83: 0 | G83: 0 | H83: 0 | I83: 0 | J83: 0 | K83: 0 | L83: 0 | M83: 0 | N83: 0 | O83: 0 | P83: 0 | Q83: 0 | R83: 0 | S83: =SUM(E83:R83) -> 0
A84: 2I100 | D84: Assistenza sociosanitaria semi-residenziale | E84: =SUM(E85,E86,E87,E88,E89) -> 0 | F84: =SUM(F85,F86,F87,F88,F89) -> 0 | G84: =SUM(G85,G86,G87,G88,G89) -> 0 | H84: =SUM(H85,H86,H87,H88,H89) -> 0 | I84: =SUM(I85,I86,I87,I88,I89) -> 0 | J84: =SUM(J85,J86,J87,J88,J89) -> 0 | K84: =SUM(K85,K86,K87,K88,K89) -> 0 | L84: =SUM(L85,L86,L87,L88,L89) -> 0 | ... R84: =SUM(R85,R86,R87,R88,R89) -> 0 | S84: =SUM(E84:R84) -> 0
B85: 2I110 | D85: Assistenza sociosanitaria semi-residenziale - Assistenza alle persone con disturbi mentali | E85: 0 | F85: 0 | G85: 0 | H85: 0 | I85: 0 | J85: 0 | K85: 0 | L85: 0 | M85: 0 | N85: 0 | O85: 0 | P85: 0 | Q85: 0 | R85: 0 | S85: =SUM(E85:R85) -> 0
B86: 2I120 | D86: Assistenza sociosanitaria semi-residenziale - Assistenza alle persone con disabilità | E86: 0 | F86: 0 | G86: 0 | H86: 0 | I86: 0 | J86: 0 | K86: 0 | L86: 0 | M86: 0 | N86: 0 | O86: 0 | P86: 0 | Q86: 0 | R86: 0 | S86: =SUM(E86:R86) -> 0
B87: 2I130 | D87: Assistenza sociosanitaria semi-residenziale - Assistenza alle persone con dipendenze patologiche | E87: 0 | F87: 0 | G87: 0 | H87: 0 | I87: 0 | J87: 0 | K87: 0 | L87: 0 | M87: 0 | N87: 0 | O87: 0 | P87: 0 | Q87: 0 | R87: 0 | S87: =SUM(E87:R87) -> 0
B88: 2I140 | D88: Assistenza sociosanitaria semi-residenziale - Assistenza alle persone non autosufficienti | E88: 0 | F88: 0 | G88: 0 | H88: 0 | I88: 0 | J88: 0 | K88: 0 | L88: 0 | M88: 0 | N88: 0 | O88: 0 | P88: 0 | Q88: 0 | R88: 0 | S88: =SUM(E88:R88) -> 0
B89: 2I150 | D89: Assistenza sociosanitaria semi-residenziale - assistenza ai minori con disturbi in ambito neuropsichiatrico e del neurosviluppo | E89: 0 | F89: 0 | G89: 0 | H89: 0 | I89: 0 | J89: 0 | K89: 0 | L89: 0 | M89: 0 | N89: 0 | O89: 0 | P89: 0 | Q89: 0 | R89: 0 | S89: =SUM(E89:R89) -> 0
A90: 2J100 | D90: Assistenza sociosanitaria residenziale | E90: =SUM(E91,E92,E93,E94,E95,E96) -> 0 | F90: =SUM(F91,F92,F93,F94,F95,F96) -> 0 | G90: =SUM(G91,G92,G93,G94,G95,G96) -> 0 | H90: =SUM(H91,H92,H93,H94,H95,H96) -> 0 | I90: =SUM(I91,I92,I93,I94,I95,I96) -> 0 | J90: =SUM(J91,J92,J93,J94,J95,J96) -> 0 | K90: =SUM(K91,K92,K93,K94,K95,K96) -> 0 | L90: =SUM(L91,L92,L93,L94,L95,L96) -> 0 | ... R90: =SUM(R91,R92,R93,R94,R95,R96) -> 0 | S90: =SUM(E90:R90) -> 0
B91: 2J110 | D91: Assistenza sociosanitaria residenziale - Assistenza alle persone con disturbi mentali | E91: 0 | F91: 0 | G91: 0 | H91: 0 | I91: 0 | J91: 0 | K91: 0 | L91: 0 | M91: 0 | N91: 0 | O91: 0 | P91: 0 | Q91: 0 | R91: 0 | S91: =SUM(E91:R91) -> 0
B92: 2J120 | D92: Assistenza sociosanitaria residenziale - Assistenza alle persone con disabilità | E92: 0 | F92: 0 | G92: 0 | H92: 0 | I92: 0 | J92: 0 | K92: 0 | L92: 0 | M92: 0 | N92: 0 | O92: 0 | P92: 0 | Q92: 0 | R92: 0 | S92: =SUM(E92:R92) -> 0
B93: 2J130 | D93: Assistenza sociosanitaria residenziale - Assistenza alle persone con dipendenze patologiche | E93: 0 | F93: 0 | G93: 0 | H93: 0 | I93: 0 | J93: 0 | K93: 0 | L93: 0 | M93: 0 | N93: 0 | O93: 0 | P93: 0 | Q93: 0 | R93: 0 | S93: =SUM(E93:R93) -> 0
B94: 2J140 | D94: Assistenza sociosanitaria residenziale - Assistenza alle persone non autosufficienti | E94: 0 | F94: 0 | G94: 0 | H94: 0 | I94: 0 | J94: 0 | K94: 0 | L94: 0 | M94: 0 | N94: 0 | O94: 0 | P94: 0 | Q94: 0 | R94: 0 | S94: =SUM(E94:R94) -> 0
B95: 2J150 | D95: Assistenza sociosanitaria residenziale - Assistenza alle persone nella fase terminale della vita | E95: 0 | F95: 0 | G95: 0 | H95: 0 | I95: 0 | J95: 0 | K95: 0 | L95: 0 | M95: 0 | N95: 0 | O95: 0 | P95: 0 | Q95: 0 | R95: 0 | S95: =SUM(E95:R95) -> 0
B96: 2J160 | D96: Assistenza sociosanitaria residenziale - Assistenza ai minori con disturbi in ambito neuropsichiatrico e del neurosviluppo | E96: 0 | F96: 0 | G96: 0 | H96: 0 | I96: 0 | J96: 0 | K96: 0 | L96: 0 | M96: 0 | N96: 0 | O96: 0 | P96: 0 | Q96: 0 | R96: 0 | S96: =SUM(E96:R96) -> 0
A97: 2K100 | D97: Assistenza termale | E97: 0 | F97: 0 | G97: 0 | H97: 0 | I97: 0 | J97: 0 | K97: 0 | L97: 0 | M97: 0 | N97: 0 | O97: 0 | P97: 0 | Q97: 0 | R97: 0 | S97: =SUM(E97:R97) -> 0
A98: 2L100 | D98: Assistenza presso strutture sanitarie interne alle carceri | E98: 0 | F98: 0 | G98: 0 | H98: 0 | I98: 0 | J98: 0 | K98: 0 | L98: 0 | M98: 0 | N98: 0 | O98: 0 | P98: 0 | Q98: 0 | R98: 0 | S98: =SUM(E98:R98) -> 0
A99: 29999 | D99: TOTALE ASSISTENZA DISTRETTUALE | E99: =SUM(E29,E46,E47,E48,E49,E55,E61,E75,E84,E90,E97,E98) -> 1082170.2 | F99: =SUM(F29,F46,F47,F48,F49,F55,F61,F75,F84,F90,F97,F98) -> 2542704.4 | G99: =SUM(G29,G46,G47,G48,G49,G55,G61,G75,G84,G90,G97,G98) -> 74445109 | H99: =SUM(H29,H46,H47,H48,H49,H55,H61,H75,H84,H90,H97,H98) -> 7152024.3 | I99: =SUM(I29,I46,I47,I48,I49,I55,I61,I75,I84,I90,I97,I98) -> 17492720 | J99: =SUM(J29,J46,J47,J48,J49,J55,J61,J75,J84,J90,J97,J98) -> 79993204 | K99: =SUM(K29,K46,K47,K48,K49,K55,K61,K75,K84,K90,K97,K98) -> 336238.25 | L99: =SUM(L29,L46,L47,L48,L49,L55,L61,L75,L84,L90,L97,L98) -> 44453822 | ... R99: =SUM(R29,R46,R47,R48,R49,R55,R61,R75,R84,R90,R97,R98) -> 0 | S99: =SUM(E99:R99) -> 2.4506109e+08
A100: ASSISTENZA OSPEDALIERA
A101: 3A100 | D101: Attività di Pronto soccorso | E101: =SUM(E102,E105) -> 0 | F101: =SUM(F102,F105) -> 0 | G101: =SUM(G102,G105) -> 0 | H101: =SUM(H102,H105) -> 0 | I101: =SUM(I102,I105) -> 0 | J101: =SUM(J102,J105) -> 0 | K101: =SUM(K102,K105) -> 0 | L101: =SUM(L102,L105) -> 0 | ... R101: =SUM(R102,R105) -> 0 | S101: =SUM(E101:R101) -> 0
B102: 3A110 | D102: Attività diretta di Pronto soccorso e OBI | E102: =SUM(E103:E104) -> 0 | F102: =SUM(F103:F104) -> 0 | G102: =SUM(G103:G104) -> 0 | H102: =SUM(H103:H104) -> 0 | I102: =SUM(I103:I104) -> 0 | J102: =SUM(J103:J104) -> 0 | K102: =SUM(K103:K104) -> 0 | L102: =SUM(L103:L104) -> 0 | ... R102: =SUM(R103:R104) -> 0 | S102: =SUM(E102:R102) -> 0
C103: 3A111 | D103: Attività diretta di PS e OBI per accessi non seguiti da ricovero | E103: 0 | F103: 0 | G103: 0 | H103: 0 | I103: 0 | J103: 0 | K103: 0 | L103: 0 | M103: 0 | N103: 0 | O103: 0 | P103: 0 | Q103: 0 | R103: 0 | S103: =SUM(E103:R103) -> 0
...

Sheet Allegato 3.a
D1: ALLEGATO 1 AL MODELLO DI RILEVAZIONE DEI COSTI DEI LIVELLI DI ASSISTENZA
A2: STRUTTURA RILEVATA | F2: OGGETTO DELLA RILEVAZIONE
A4: REGIONE | B4: 120 | D4: CODICE ENTE | E4: ='Modello LA'!G4 -> 120921 | F4: CONSUNTIVO ANNO | M4: 2022
D7: Macrovoci economiche | E7: Totale costi modello LA | F7: Mobilità attiva extra-regionale AA0460+AA0470+AA0471+AA0490+AA0500+AA0510+AA0520+AA0530+AA0550+AA0560+AA0561+AA0620+AA0630+AA0631+AA0640+AA0650+EA0080+EA0180 | G7: Mobilità passiva extra-regionale BA0062+BA0090+BA0480+BA0520+BA0560+BA0561+BA0730+BA0780+BA0830+BA0990+BA1060+BA1161+BA1120+BA1550+EA0360+EA0490 | H7: Mobilità attiva internazionale AA0600 | I7: Mobilità passiva internazionale BA1540 | J7: Ricavi per prestazioni sanitarie erogate in regime di intramoenia AA0670 | K7: Costi per prestazioni extra Lea | L7: Assistenza stranieri irregolari | M7: Ricavi per attività di ricerca AA0190+AA0200+A A0210+AA0220+AA0300
A9: PREVENZIONE COLLETTIVA E SANITA' PUBBLICA
A10: 1A100 | D10: Sorveglianza, prevenzione e controllo delle malattie infettive e parassitarie, inclusi i programmi vaccinali | E10: ='Modello LA'!S10 -> 0 | F10: =SUM(F11:F12) -> 0 | G10: =SUM(G11:G12) -> 0 | H10: =SUM(H11:H12) -> 0 | I10: =SUM(I11:I12) -> 0 | J10: =SUM(J11:J12) -> 0 | K10: =SUM(K11:K12) -> 0 | L10: =SUM(L11:L12) -> 0 | M10: =SUM(M11:M12) -> 0
B11: 1A110 | D11: Vaccinazioni | E11: ='Modello LA'!S11 -> 0 | F11: 0 | G11: 0 | H11: 0 | I11: 0 | J11: 0 | K11: 0 | L11: 0 | M11: 0
B12: 1A120 | D12: Altri interventi per la sorveglianza, prevenzione e controllo delle malattie infettive e parassitarie | E12: ='Modello LA'!S12 -> 0 | F12: 0 | G12: 0 | H12: 0 | I12: 0 | J12: 0 | K12: 0 | L12: 0 | M12: 0
A13: 1B100 | D13: Tutela della salute e della sicurezza degli ambienti aperti e confinati | E13: ='Modello LA'!S13 -> 0 | F13: 0 | G13: 0 | H13: 0 | I13: 0 | J13: 0 | K13: 0 | L13: 0 | M13: 0
A14: 1C100 | D14: Sorveglianza, prevenzione e tutela della salute e sicurezza nei luoghi di lavoro | E14: ='Modello LA'!S14 -> 0 | F14: 0 | G14: 0 | H14: 0 | I14: 0 | J14: 0 | K14: 0 | L14: 0 | M14: 0
A15: 1D100 | D15: Salute animale e igiene urbana veterinaria | E15: ='Modello LA'!S15 -> 0 | F15: 0 | G15: 0 | H15: 0 | I15: 0 | J15: 0 | K15: 0 | L15: 0 | M15: 0
A16: 1E100 | D16: Sicurezza alimentare - Tutela della salute dei consumatori | E16: ='Modello LA'!S16 -> 0 | F16: 0 | G16: 0 | H16: 0 | I16: 0 | J16: 0 | K16: 0 | L16: 0 | M16: 0
A17: 1F100 | D17: Sorveglianza e prevenzione delle malattie croniche, inclusi la promozione di stili di vita sani ed i programmi organizzati di screening; sorveglianza e prevenzione nutrizionale | E17: ='Modello LA'!S17 -> 0 | F17: =SUM(F18,F22) -> 0 | G17: =SUM(G18,G22) -> 0 | H17: =SUM(H18,H22) -> 0 | I17: =SUM(I18,I22) -> 0 | J17: =SUM(J18,J22) -> 0 | K17: =SUM(K18,K22) -> 0 | L17: =SUM(L18,L22) -> 0 | M17: =SUM(M18,M22) -> 0
B18: 1F110 | D18: Screening oncologici | E18: ='Modello LA'!S18 -> 0 | F18: =SUM(F19:F21) -> 0 | G18: =SUM(G19:G21) -> 0 | H18: =SUM(H19:H21) -> 0 | I18: =SUM(I19:I21) -> 0 | J18: =SUM(J19:J21) -> 0 | K18: =SUM(K19:K21) -> 0 | L18: =SUM(L19:L21) -> 0 | M18: =SUM(M19:M21) -> 0
C19: 1F111 | D19: Programmi organizzati svolti in apposita Unità operativa/Centro di costo | E19: ='Modello LA'!S19 -> 0 | F19: 0 | G19: 0 | H19: 0 | I19: 0 | J19: 0 | K19: 0 | L19: 0 | M19: 0
C20: 1F112 | D20: Programmi organizzati svolti in ambito consultoriale/ambulatoriale territoriale | E20: ='Modello LA'!S20 -> 0 | F20: 0 | G20: 0 | H20: 0 | I20: 0 | J20: 0 | K20: 0 | L20: 0 | M20: 0
C21: 1F113 | D21: Programmi organizzati svolti in ambito ospedaliero | E21: ='Modello LA'!S21 -> 0 | F21: 0 | G21: 0 | H21: 0 | I21: 0 | J21: 0 | K21: 0 | L21: 0 | M21: 0
B22: 1F120 | D22: Altre attività di Sorveglianza e prevenzione delle malattie croniche, inclusi la promozione di stili di vita sani e prevenzione nutrizionale | E22: ='Modello LA'!S22 -> 0 | F22: =SUM(F23:F24) -> 0 | G22: =SUM(G23:G24) -> 0 | H22: =SUM(H23:H24) -> 0 | I22: =SUM(I23:I24) -> 0 | J22: =SUM(J23:J24) -> 0 | K22: =SUM(K23:K24) -> 0 | L22: =SUM(L23:L24) -> 0 | M22: =SUM(M23:M24) -> 0
C23: 1F121 | D23: Altre attività svolte in ambito extra-ospedaliero | E23: ='Modello LA'!S23 -> 0 | F23: 0 | G23: 0 | H23: 0 | I23: 0 | J23: 0 | K23: 0 | L23: 0 | M23: 0
C24: 1F122 | D24: Altre attività svolte in ambito ospedaliero | E24: ='Modello LA'!S24 -> 0 | F24: 0 | G24: 0 | H24: 0 | I24: 0 | J24: 0 | K24: 0 | L24: 0 | M24: 0
A25: 1G100 | D25: Attività medico legali per finalità pubbliche | E25: ='Modello LA'!S25 -> 0 | F25: 0 | G25: 0 | H25: 0 | I25: 0 | J25: 0 | K25: 0 | L25: 0 | M25: 0
A26: 1H100 | D26: Contributo Legge 210/92 | E26: ='Modello LA'!S26 -> 0 | F26: 0 | G26: 0 | H26: 0 | I26: 0 | J26: 0 | K26: 0 | L26: 0 | M26: 0
A27: 19999 | D27: TOTALE PREVENZIONE COLLETTIVA E SANITA' PUBBLICA | E27: ='Modello LA'!S27 -> 0 | F27: =SUM(F10,F13,F14,F15,F16,F17,F25,F26) -> 0 | G27: =SUM(G10,G13,G14,G15,G16,G17,G25,G26) -> 0 | H27: =SUM(H10,H13,H14,H15,H16,H17,H25,H26) -> 0 | I27: =SUM(I10,I13,I14,I15,I16,I17,I25,I26) -> 0 | J27: =SUM(J10,J13,J14,J15,J16,J17,J25,J26) -> 0 | K27: =SUM(K10,K13,K14,K15,K16,K17,K25,K26) -> 0 | L27: =SUM(L10,L13,L14,L15,L16,L17,L25,L26) -> 0 | M27: =SUM(M10,M13,M14,M15,M16,M17,M25,M26) -> 0
A28: ASSISTENZA DISTRETTUALE
A29: 2A100 | D29: Assistenza sanitaria di base | E29: ='Modello LA'!S29 -> 0 | F29: =SUM(F30,F37,F43) -> 0 | G29: =SUM(G30,G37,G43) -> 0 | H29: =SUM(H30,H37,H43) -> 0 | I29: =SUM(I30,I37,I43) -> 0 | J29: =SUM(J30,J37,J43) -> 0 | K29: =SUM(K30,K37,K43) -> 0 | L29: =SUM(L30,L37,L43) -> 0 | M29: =SUM(M30,M37,M43) -> 0
B30: 2A110 | D30: Medicina generale | E30: ='Modello LA'!S30 -> 0 | F30: =SUM(F31:F36) -> 0 | G30: =SUM(G31:G36) -> 0 | H30: =SUM(H31:H36) -> 0 | I30: =SUM(I31:I36) -> 0 | J30: =SUM(J31:J36) -> 0 | K30: =SUM(K31:K36) -> 0 | L30: =SUM(L31:L36) -> 0 | M30: =SUM(M31:M36) -> 0
C31: 2A111 | D31: Medicina generale - Attività in convenzione | E31: ='Modello LA'!S31 -> 0 | F31: 0 | G31: 0 | H31: 0 | I31: 0 | J31: 0 | K31: 0 | L31: 0 | M31: 0
C32: 2A112 | D32: Medicina generale - Prestazioni erogate nelle cure domiciliari | E32: ='Modello LA'!S32 -> 0 | F32: 0 | G32: 0 | H32: 0 | I32: 0 | J32: 0 | K32: 0 | L32: 0 | M32: 0
C33: 2A113 | D33: Medicina generale - Prestazioni erogate presso strutture residenziali e semiresidenziali | E33: ='Modello LA'!S33 -> 0 | F33: 0 | G33: 0 | H33: 0 | I33: 0 | J33: 0 | K33: 0 | L33: 0 | M33: 0
C34: 2A114 | D34: Medicina generale - Programmi vaccinali | E34: ='Modello LA'!S34 -> 0 | F34: 0 | G34: 0 | H34: 0 | I34: 0 | J34: 0 | K34: 0 | L34: 0 | M34: 0
C35: 2A115 | D35: Medicina generale - Attività presso UCCP | E35: ='Modello LA'!S35 -> 0 | F35: 0 | G35: 0 | H35: 0 | I35: 0 | J35: 0 | K35: 0 | L35: 0 | M35: 0
C36: 2A116 | D36: Medicina generale - Attività presso - Ospedali di Comunità | E36: ='Modello LA'!S36 -> 0 | F36: 0 | G36: 0 | H36: 0 | I36: 0 | J36: 0 | K36: 0 | L36: 0 | M36: 0
B37: 2A120 | D37: Pediatria di libera scelta | E37: ='Modello LA'!S37 -> 0 | F37: =SUM(F38:F42) -> 0 | G37: =SUM(G38:G42) -> 0 | H37: =SUM(H38:H42) -> 0 | I37: =SUM(I38:I42) -> 0 | J37: =SUM(J38:J42) -> 0 | K37: =SUM(K38:K42) -> 0 | L37: =SUM(L38:L42) -> 0 | M37: =SUM(M38:M42) -> 0
C38: 2A121 | D38: Pediatria di libera scelta - Attività in convenzione | E38: ='Modello LA'!S38 -> 0 | F38: 0 | G38: 0 | H38: 0 | I38: 0 | J38: 0 | K38: 0 | L38: 0 | M38: 0
C39: 2A122 | D39: Pediatria di libera scelta - Prestazioni erogate nelle cure domiciliari | E39: ='Modello LA'!S39 -> 0 | F39: 0 | G39: 0 | H39: 0 | I39: 0 | J39: 0 | K39: 0 | L39: 0 | M39: 0
C40: 2A123 | D40: Pediatria di libera scelta - Programmi vaccinali | E40: ='Modello LA'!S40 -> 0 | F40: 0 | G40: 0 | H40: 0 | I40: 0 | J40: 0 | K40: 0 | L40: 0 | M40: 0
C41: 2A124 | D41: Pediatria di libera scelta - Attività presso UCCP | E41: ='Modello LA'!S41 -> 0 | F41: 0 | G41: 0 | H41: 0 | I41: 0 | J41: 0 | K41: 0 | L41: 0 | M41: 0
C42: 2A125 | D42: Pediatria di libera scelta - Attività presso Ospedali di Comunità | E42: ='Modello LA'!S42 -> 0 | F42: 0 | G42: 0 | H42: 0 | I42: 0 | J42: 0 | K42: 0 | L42: 0 | M42: 0
B43: 2A130 | D43: Altra assistenza sanitaria di base | E43: ='Modello LA'!S43 -> 0 | F43: =SUM(F44:F45) -> 0 | G43: =SUM(G44:G45) -> 0 | H43: =SUM(H44:H45) -> 0 | I43: =SUM(I44:I45) -> 0 | J43: =SUM(J44:J45) -> 0 | K43: =SUM(K44:K45) -> 0 | L43: =SUM(L44:L45) -> 0 | M43: =SUM(M44:M45) -> 0
C44: 2A131 | D44: Altra assistenza sanitaria di base : Assistenza distrettuale e UCCP | E44: ='Modello LA'!S44 -> 0 | F44: 0 | G44: 0 | H44: 0 | I44: 0 | J44: 0 | K44: 0 | L44: 0 | M44: 0
C45: 2A132 | D45: Altra assistenza sanitaria di base - Ospedali di Comunità | E45: ='Modello LA'!S45 -> 0 | F45: 0 | G45: 0 | H45: 0 | I45: 0 | J45: 0 | K45: 0 | L45: 0 | M45: 0
A46: 2B100 | D46: Continuità assistenziale | E46: ='Modello LA'!S46 -> 7355262.9 | F46: 0 | G46: 0 | H46: 0 | I46: 0 | J46: 0 | K46: 0 | L46: 0 | M46: 0
A47: 2C100 | D47: Assistenza ai turisti | E47: ='Modello LA'!S47 -> 0 | F47: 0 | G47: 0 | H47: 0 | I47: 0 | J47: 0 | K47: 0 | L47: 0 | M47: 0
A48: 2D100 | D48: Emergenza sanitaria territoriale | E48: ='Modello LA'!S48 -> 2.3770583e+08 | F48: 1468773.8 | G48: 0 | H48: 0 | I48: 0 | J48: 86566.48 | K48: 0 | L48: 0 | M48: 20000
A49: 2E100 | D49: Assistenza farmaceutica | E49: ='Modello LA'!S49 -> 0 | F49: =SUM(F50:F51,F54) -> 0 | G49: =SUM(G50:G51,G54) -> 0 | H49: =SUM(H50:H51,H54) -> 0 | I49: =SUM(I50:I51,I54) -> 0 | J49: =SUM(J50:J51,J54) -> 0 | K49: =SUM(K50:K51,K54) -> 0 | L49: =SUM(L50:L51,L54) -> 0 | M49: =SUM(M50:M51,M54) -> 0
B50: 2E110 | D50: Assistenza farmaceutica erogata in regime di convenzione | E50: ='Modello LA'!S50 -> 0 | F50: 0 | G50: 0 | H50: 0 | I50: 0 | J50: 0 | K50: 0 | L50: 0 | M50: 0
B51: 2E120 | D51: Assistenza farmaceutica - erogazione diretta a livello territoriale | E51: ='Modello LA'!S51 -> 0 | F51: =SUM(F52:F53) -> 0 | G51: =SUM(G52:G53) -> 0 | H51: =SUM(H52:H53) -> 0 | I51: =SUM(I52:I53) -> 0 | J51: =SUM(J52:J53) -> 0 | K51: =SUM(K52:K53) -> 0 | L51: =SUM(L52:L53) -> 0 | M51: =SUM(M52:M53) -> 0
C52: 2E121 | D52: Assistenza farmaceutica - erogazione diretta a livello territoriale - Distribuzione Diretta | E52: ='Modello LA'!S52 -> 0 | F52: 0 | G52: 0 | H52: 0 | I52: 0 | J52: 0 | K52: 0 | L52: 0 | M52: 0
C53: 2E122 | D53: Assistenza farmaceutica - erogazione diretta a livello territoriale - Distribuzione Per Conto | E53: ='Modello LA'!S53 -> 0 | F53: 0 | G53: 0 | H53: 0 | I53: 0 | J53: 0 | K53: 0 | L53: 0 | M53: 0
B54: 2E130 | D54: Assistenza farmaceutica - erogazione diretta a livello ospedaliero | E54: ='Modello LA'!S54 -> 0 | F54: 0 | G54: 0 | H54: 0 | I54: 0 | J54: 0 | K54: 0 | L54: 0 | M54: 0
A55: 2F100 | D55: Assistenza integrativa e protesica | E55: ='Modello LA'!S55 -> 0 | F55: =SUM(F56,F60) -> 0 | G55: =SUM(G56,G60) -> 0 | H55: =SUM(H56,H60) -> 0 | I55: =SUM(I56,I60) -> 0 | J55: =SUM(J56,J60) -> 0 | K55: =SUM(K56,K60) -> 0 | L55: =SUM(L56,L60) -> 0 | M55: =SUM(M56,M60) -> 0
B56: 2F110 | D56: Assistenza integrativa-Totale | E56: ='Modello LA'!S56 -> 0 | F56: =SUM(F57,F58,F59) -> 0 | G56: =SUM(G57,G58,G59) -> 0 | H56: =SUM(H57,H58,H59) -> 0 | I56: =SUM(I57,I58,I59) -> 0 | J56: =SUM(J57,J58,J59) -> 0 | K56: =SUM(K57,K58,K59) -> 0 | L56: =SUM(L57,L58,L59) -> 0 | M56: =SUM(M57,M58,M59) -> 0
C57: 2F111 | D57: Assistenza integrativa - Presidi per persone affette da malattia diabetica o da malattie rare | E57: ='Modello LA'!S57 -> 0 | F57: 0 | G57: 0 | H57: 0 | I57: 0 | J57: 0 | K57: 0 | L57: 0 | M57: 0
C58: 2F112 | D58: Assistenza integrativa - Prodotti destinati a un’alimentazione particolare | E58: ='Modello LA'!S58 -> 0 | F58: 0 | G58: 0 | H58: 0 | I58: 0 | J58: 0 | K58: 0 | L58: 0 | M58: 0
C59: 2F113 | D59: Assistenza integrativa - Dispositivi monouso | E59: ='Modello LA'!S59 -> 0 | F59: 0 | G59: 0 | H59: 0 | I59: 0 | J59: 0 | K59: 0 | L59: 0 | M59: 0
B60: 2F120 | D60: Assistenza protesica | E60: ='Modello LA'!S60 -> 0 | F60: 0 | G60: 0 | H60: 0 | I60: 0 | J60: 0 | K60: 0 | L60: 0 | M60: 0
A61: 2G100 | D61: Assistenza specialistica ambulatoriale | E61: ='Modello LA'!S61 -> 0 | F61: =SUM(F62,F68,F74) -> 0 | G61: =SUM(G62,G68,G74) -> 0 | H61: =SUM(H62,H68,H74) -> 0 | I61: =SUM(I62,I68,I74) -> 0 | J61: =SUM(J62,J68,J74) -> 0 | K61: =SUM(K62,K68,K74) -> 0 | L61: =SUM(L62,L68,L74) -> 0 | M61: =SUM(M62,M68,M74) -> 0
B62: 2G110 | D62: Assistenza specialistica ambulatoriale - Attività prodotta in ambito ospedaliero | E62: ='Modello LA'!S62 -> 0 | F62: =SUM(F63:F67) -> 0 | G62: =SUM(G63:G67) -> 0 | H62: =SUM(H63:H67) -> 0 | I62: =SUM(I63:I67) -> 0 | J62: =SUM(J63:J67) -> 0 | K62: =SUM(K63:K67) -> 0 | L62: =SUM(L63:L67) -> 0 | M62: =SUM(M63:M67) -> 0
C63: 2G111 | D63: Assistenza specialistica ambulatoriale - Attività prodotta in ambito ospedaliero - Attività di laboratorio | E63: ='Modello LA'!S63 -> 0 | F63: 0 | G63: 0 | H63: 0 | I63: 0 | J63: 0 | K63: 0 | L63: 0 | M63: 0
C64: 2G112 | D64: Assistenza specialistica ambulatoriale - Attività prodotta in ambito ospedaliero – Diagnostica strumentale | E64: ='Modello LA'!S64 -> 0 | F64: 0 | G64: 0 | H64: 0 | I64: 0 | J64: 0 | K64: 0 | L64: 0 | M64: 0
C65: 2G113 | D65: Assistenza specialistica ambulatoriale - Attività prodotta in ambito ospedaliero – Attività clinica | E65: ='Modello LA'!S65 -> 0 | F65: 0 | G65: 0 | H65: 0 | I65: 0 | J65: 0 | K65: 0 | L65: 0 | M65: 0
C66: 2G114 | D66: Assistenza specialistica ambulatoriale - Attività prodotta in ambito ospedaliero - Farmaci ad alto costo rimborsati extra tariffa | E66: ='Modello LA'!S66 -> 0 | F66: 0 | G66: 0 | H66: 0 | I66: 0 | J66: 0 | K66: 0 | L66: 0 | M66: 0
C67: 2G115 | D67: Assistenza specialistica ambulatoriale - Attività prodotta in ambito ospedaliero - Dispositivi ad alto costo rimborsati extra tariffa | E67: ='Modello LA'!S67 -> 0 | F67: 0 | G67: 0 | H67: 0 | I67: 0 | J67: 0 | K67: 0 | L67: 0 | M67: 0
B68: 2G120 | D68: Assistenza specialistica ambulatoriale - Attività prodotta in ambito distrettuale e da terzi | E68: ='Modello LA'!S68 -> 0 | F68: =SUM(F69,F70,F71,F72,F73) -> 0 | G68: =SUM(G69,G70,G71,G72,G73) -> 0 | H68: =SUM(H69,H70,H71,H72,H73) -> 0 | I68: =SUM(I69,I70,I71,I72,I73) -> 0 | J68: =SUM(J69,J70,J71,J72,J73) -> 0 | K68: =SUM(K69,K70,K71,K72,K73) -> 0 | L68: =SUM(L69,L70,L71,L72,L73) -> 0 | M68: =SUM(M69,M70,M71,M72,M73) -> 0
C69: 2G121 | D69: Assistenza specialistica ambulatoriale - Attività prodotta in ambito distrettuale e da terzi - Attività di laboratorio | E69: ='Modello LA'!S69 -> 0 | F69: 0 | G69: 0 | H69: 0 | I69: 0 | J69: 0 | K69: 0 | L69: 0 | M69: 0
C70: 2G122 | D70: Assistenza specialistica ambulatoriale Attività prodotta in ambito distrettuale e da terzi – Diagnostica strumentale | E70: ='Modello LA'!S70 -> 0 | F70: 0 | G70: 0 | H70: 0 | I70: 0 | J70: 0 | K70: 0 | L70: 0 | M70: 0
C71: 2G123 | D71: Assistenza specialistica ambulatoriale - Attività prodotta in ambito distrettuale e da terzi - Attività clinica | E71: ='Modello LA'!S71 -> 0 | F71: 0 | G71: 0 | H71: 0 | I71: 0 | J71: 0 | K71: 0 | L71: 0 | M71: 0
C72: 2G124 | D72: Assistenza specialistica ambulatoriale - Attività prodotta in ambito distrettuale e da terzi – Farmaci ad alto costo rimborsati extra – tariffa | E72: ='Modello LA'!S72 -> 0 | F72: 0 | G72: 0 | H72: 0 | I72: 0 | J72: 0 | K72: 0 | L72: 0 | M72: 0
C73: 2G125 | D73: Assistenza specialistica ambulatoriale - Attività prodotta in ambito distrettuale e da terzi – Dispositivi ad alto costo rimborsati extra – tariffa | E73: ='Modello LA'!S73 -> 0 | F73: 0 | G73: 0 | H73: 0 | I73: 0 | J73: 0 | K73: 0 | L73: 0 | M73: 0
B74: 2G130 | D74: Assistenza specialistica ambulatoriale – Trasporto utenti | E74: ='Modello LA'!S74 -> 0 | F74: 0 | G74: 0 | H74: 0 | I74: 0 | J74: 0 | K74: 0 | L74: 0 | M74: 0
A75: 2H100 | D75: Assistenza sociosanitaria distrettuale, domiciliare e territoriale | E75: ='Modello LA'!S75 -> 0 | F75: =SUM(F76,F79,F80,F81,F82,F83) -> 0 | G75: =SUM(G76,G79,G80,G81,G82,G83) -> 0 | H75: =SUM(H76,H79,H80,H81,H82,H83) -> 0 | I75: =SUM(I76,I79,I80,I81,I82,I83) -> 0 | J75: =SUM(J76,J79,J80,J81,J82,J83) -> 0 | K75: =SUM(K76,K79,K80,K81,K82,K83) -> 0 | L75: =SUM(L76,L79,L80,L81,L82,L83) -> 0 | M75: =SUM(M76,M79,M80,M81,M82,M83) -> 0
B76: 2H110 | D76: Assistenza sociosanitaria distrettuale, domiciliare e territoriale – Cure domiciliari | E76: ='Modello LA'!S76 -> 0 | F76: =SUM(F77,F78) -> 0 | G76: =SUM(G77,G78) -> 0 | H76: =SUM(H77,H78) -> 0 | I76: =SUM(I77,I78) -> 0 | J76: =SUM(J77,J78) -> 0 | K76: =SUM(K77,K78) -> 0 | L76: =SUM(L77,L78) -> 0 | M76: =SUM(M77,M78) -> 0
C77: 2H111 | D77: Cure domiciliari | E77: ='Modello LA'!S77 -> 0 | F77: 0 | G77: 0 | H77: 0 | I77: 0 | J77: 0 | K77: 0 | L77: 0 | M77: 0
C78: 2H112 | D78: Cure palliative domiciliari | E78: ='Modello LA'!S78 -> 0 | F78: 0 | G78: 0 | H78: 0 | I78: 0 | J78: 0 | K78: 0 | L78: 0 | M78: 0
B79: 2H120 | D79: Assistenza sociosanitaria distrettuale, domiciliare e territoriale - Assistenza a minori, donne, coppie, famiglia (consultori) | E79: ='Modello LA'!S79 -> 0 | F79: 0 | G79: 0 | H79: 0 | I79: 0 | J79: 0 | K79: 0 | L79: 0 | M79: 0
B80: 2H130 | D80: Assistenza sociosanitaria distrettuale, domiciliare e territoriale - Assistenza ai minori con disturbi in ambito neuropsichiatrico e del neurosviluppo | E80: ='Modello LA'!S80 -> 0 | F80: 0 | G80: 0 | H80: 0 | I80: 0 | J80: 0 | K80: 0 | L80: 0 | M80: 0
B81: 2H140 | D81: Assistenza sociosanitaria distrettuale, domiciliare e territoriale - Assistenza alle persone con disturbi mentali | E81: ='Modello LA'!S81 -> 0 | F81: 0 | G81: 0 | H81: 0 | I81: 0 | J81: 0 | K81: 0 | L81: 0 | M81: 0
B82: 2H150 | D82: Assistenza sociosanitaria distrettuale, domiciliare e territoriale - Assistenza alle persone con disabilità | E82: ='Modello LA'!S82 -> 0 | F82: 0 | G82: 0 | H82: 0 | I82: 0 | J82: 0 | K82: 0 | L82: 0 | M82: 0
B83: 2H160 | D83: Assistenza sociosanitaria distrettuale, domiciliare e territoriale - Assistenza alle persone con dipendenze patologiche | E83: ='Modello LA'!S83 -> 0 | F83: 0 | G83: 0 | H83: 0 | I83: 0 | J83: 0 | K83: 0 | L83: 0 | M83: 0
A84: 2I100 | D84: Assistenza sociosanitaria semi-residenziale | E84: ='Modello LA'!S84 -> 0 | F84: =SUM(F85,F86,F87,F88,F89) -> 0 | G84: =SUM(G85,G86,G87,G88,G89) -> 0 | H84: =SUM(H85,H86,H87,H88,H89) -> 0 | I84: =SUM(I85,I86,I87,I88,I89) -> 0 | J84: =SUM(J85,J86,J87,J88,J89) -> 0 | K84: =SUM(K85,K86,K87,K88,K89) -> 0 | L84: =SUM(L85,L86,L87,L88,L89) -> 0 | M84: =SUM(M85,M86,M87,M88,M89) -> 0
B85: 2I110 | D85: Assistenza sociosanitaria semi-residenziale - Assistenza alle persone con disturbi mentali | E85: ='Modello LA'!S85 -> 0 | F85: 0 | G85: 0 | H85: 0 | I85: 0 | J85: 0 | K85: 0 | L85: 0 | M85: 0
B86: 2I120 | D86: Assistenza sociosanitaria semi-residenziale - Assistenza alle persone con disabilità | E86: ='Modello LA'!S86 -> 0 | F86: 0 | G86: 0 | H86: 0 | I86: 0 | J86: 0 | K86: 0 | L86: 0 | M86: 0
B87: 2I130 | D87: Assistenza sociosanitaria semi-residenziale - Assistenza alle persone con dipendenze patologiche | E87: ='Modello LA'!S87 -> 0 | F87: 0 | G87: 0 | H87: 0 | I87: 0 | J87: 0 | K87: 0 | L87: 0 | M87: 0
B88: 2I140 | D88: Assistenza sociosanitaria semi-residenziale - Assistenza alle persone non autosufficienti | E88: ='Modello LA'!S88 -> 0 | F88: 0 | G88: 0 | H88: 0 | I88: 0 | J88: 0 | K88: 0 | L88: 0 | M88: 0
B89: 2I150 | D89: Assistenza sociosanitaria semi-residenziale - assistenza ai minori con disturbi in ambito neuropsichiatrico e del neurosviluppo | E89: ='Modello LA'!S89 -> 0 | F89: 0 | G89: 0 | H89: 0 | I89: 0 | J89: 0 | K89: 0 | L89: 0 | M89: 0
A90: 2J100 | D90: Assistenza sociosanitaria residenziale | E90: ='Modello LA'!S90 -> 0 | F90: =SUM(F91,F92,F93,F94,F95,F96) -> 0 | G90: =SUM(G91,G92,G93,G94,G95,G96) -> 0 | H90: =SUM(H91,H92,H93,H94,H95,H96) -> 0 | I90: =SUM(I91,I92,I93,I94,I95,I96) -> 0 | J90: =SUM(J91,J92,J93,J94,J95,J96) -> 0 | K90: =SUM(K91,K92,K93,K94,K95,K96) -> 0 | L90: =SUM(L91,L92,L93,L94,L95,L96) -> 0 | M90: =SUM(M91,M92,M93,M94,M95,M96) -> 0
B91: 2J110 | D91: Assistenza sociosanitaria residenziale - Assistenza alle persone con disturbi mentali | E91: ='Modello LA'!S91 -> 0 | F91: 0 | G91: 0 | H91: 0 | I91: 0 | J91: 0 | K91: 0 | L91: 0 | M91: 0
B92: 2J120 | D92: Assistenza sociosanitaria residenziale - Assistenza alle persone con disabilità | E92: ='Modello LA'!S92 -> 0 | F92: 0 | G92: 0 | H92: 0 | I92: 0 | J92: 0 | K92: 0 | L92: 0 | M92: 0
B93: 2J130 | D93: Assistenza sociosanitaria residenziale - Assistenza alle persone con dipendenze patologiche | E93: ='Modello LA'!S93 -> 0 | F93: 0 | G93: 0 | H93: 0 | I93: 0 | J93: 0 | K93: 0 | L93: 0 | M93: 0
B94: 2J140 | D94: Assistenza sociosanitaria residenziale - Assistenza alle persone non autosufficienti | E94: ='Modello LA'!S94 -> 0 | F94: 0 | G94: 0 | H94: 0 | I94: 0 | J94: 0 | K94: 0 | L94: 0 | M94: 0
B95: 2J150 | D95: Assistenza sociosanitaria residenziale - Assistenza alle persone nella fase terminale della vita | E95: ='Modello LA'!S95 -> 0 | F95: 0 | G95: 0 | H95: 0 | I95: 0 | J95: 0 | K95: 0 | L95: 0 | M95: 0
B96: 2J160 | D96: Assistenza sociosanitaria residenziale - Assistenza ai minori con disturbi in ambito neuropsichiatrico e del neurosviluppo | E96: ='Modello LA'!S96 -> 0 | F96: 0 | G96: 0 | H96: 0 | I96: 0 | J96: 0 | K96: 0 | L96: 0 | M96: 0
A97: 2K100 | D97: Assistenza termale | E97: ='Modello LA'!S97 -> 0 | F97: 0 | G97: 0 | H97: 0 | I97: 0 | J97: 0 | K97: 0 | L97: 0 | M97: 0
A98: 2L100 | D98: Assistenza presso strutture sanitarie interne alle carceri | E98: ='Modello LA'!S98 -> 0 | F98: 0 | G98: 0 | H98: 0 | I98: 0 | J98: 0 | K98: 0 | L98: 0 | M98: 0
A99: 29999 | D99: TOTALE ASSISTENZA DISTRETTUALE | E99: ='Modello LA'!S99 -> 2.4506109e+08 | F99: =SUM(F29,F46,F47,F48,F49,F55,F61,F75,F84,F90,F97,F98) -> 1468773.8 | G99: =SUM(G29,G46,G47,G48,G49,G55,G61,G75,G84,G90,G97,G98) -> 0 | H99: =SUM(H29,H46,H47,H48,H49,H55,H61,H75,H84,H90,H97,H98) -> 0 | I99: =SUM(I29,I46,I47,I48,I49,I55,I61,I75,I84,I90,I97,I98) -> 0 | J99: =SUM(J29,J46,J47,J48,J49,J55,J61,J75,J84,J90,J97,J98) -> 86566.48 | K99: =SUM(K29,K46,K47,K48,K49,K55,K61,K75,K84,K90,K97,K98) -> 0 | L99: =SUM(L29,L46,L47,L48,L49,L55,L61,L75,L84,L90,L97,L98) -> 0 | M99: =SUM(M29,M46,M47,M48,M49,M55,M61,M75,M84,M90,M97,M98) -> 20000
A100: ASSISTENZA OSPEDALIERA
A101: 3A100 | D101: Attività di Pronto soccorso | E101: ='Modello LA'!S101 -> 0 | F101: =SUM(F102,F105) -> 0 | G101: =SUM(G102,G105) -> 0 | H101: =SUM(H102,H105) -> 0 | I101: =SUM(I102,I105) -> 0 | J101: =SUM(J102,J105) -> 0 | K101: =SUM(K102,K105) -> 0 | L101: =SUM(L102,L105) -> 0 | M101: =SUM(M102,M105) -> 0
B102: 3A110 | D102: Attività diretta di Pronto soccorso e OBI | E102: ='Modello LA'!S102 -> 0 | F102: =SUM(F103:F104) -> 0 | G102: =SUM(G103:G104) -> 0 | H102: =SUM(H103:H104) -> 0 | I102: =SUM(I103:I104) -> 0 | J102: =SUM(J103:J104) -> 0 | K102: =SUM(K103:K104) -> 0 | L102: =SUM(L103:L104) -> 0 | M102: =SUM(M103:M104) -> 0
C103: 3A111 | D103: Attività diretta di PS e OBI per accessi non seguiti da ricovero | E103: ='Modello LA'!S103 -> 0 | F103: 0 | G103: 0 | H103: 0 | I103: 0 | J103: 0 | K103: 0 | L103: 0 | M103: 0
C104: 3A112 | D104: Attività diretta di PS e OBI per accessi seguiti da ricovero | E104: ='Modello LA'!S104 -> 0 | F104: 0 | G104: 0 | H104: 0 | I104: 0 | J104: 0 | K104: 0 | L104: 0 | M104: 0
...

Sheet Allegato 3.b
A2: ALLEGATO 2 - Prestazioni eventualmente erogate non riconducibili ai livelli essenziali di assistenza (non incluse nel DPCM 12 gennaio 2017)
A4: 19999 | B4: TOTALE PREVENZIONE COLLETTIVA E SANITA' PUBBLICA | C4: costi totali | D4: 29999 | E4: TOTALE ASSISTENZA DISTRETTUALE | F4: costi totali | G4: 39999 | H4: TOTALE ASSISTENZA OSPEDALIERA | I4: costi totali
C5: ='Allegato 3.a'!K27 -> 0 | F5: ='Allegato 3.a'!K99 -> 0 | I5: ='Allegato 3.a'!K118 -> 0
S120: =SUM(E120:R120) -> 0
